BEGIN:VCALENDAR
VERSION:2.0
PRODID:-//www.saxophone.bg - ECPv6.15.11//NONSGML v1.0//EN
CALSCALE:GREGORIAN
METHOD:PUBLISH
X-WR-CALNAME:www.saxophone.bg
X-ORIGINAL-URL:https://saxophone.bg
X-WR-CALDESC:Събития за www.saxophone.bg
REFRESH-INTERVAL;VALUE=DURATION:PT1H
X-Robots-Tag:noindex
X-PUBLISHED-TTL:PT1H
BEGIN:VTIMEZONE
TZID:Europe/Helsinki
BEGIN:DAYLIGHT
TZOFFSETFROM:+0200
TZOFFSETTO:+0300
TZNAME:EEST
DTSTART:20230326T010000
END:DAYLIGHT
BEGIN:STANDARD
TZOFFSETFROM:+0300
TZOFFSETTO:+0200
TZNAME:EET
DTSTART:20231029T010000
END:STANDARD
BEGIN:DAYLIGHT
TZOFFSETFROM:+0200
TZOFFSETTO:+0300
TZNAME:EEST
DTSTART:20240331T010000
END:DAYLIGHT
BEGIN:STANDARD
TZOFFSETFROM:+0300
TZOFFSETTO:+0200
TZNAME:EET
DTSTART:20241027T010000
END:STANDARD
BEGIN:DAYLIGHT
TZOFFSETFROM:+0200
TZOFFSETTO:+0300
TZNAME:EEST
DTSTART:20250330T010000
END:DAYLIGHT
BEGIN:STANDARD
TZOFFSETFROM:+0300
TZOFFSETTO:+0200
TZNAME:EET
DTSTART:20251026T010000
END:STANDARD
BEGIN:DAYLIGHT
TZOFFSETFROM:+0200
TZOFFSETTO:+0300
TZNAME:EEST
DTSTART:20260329T010000
END:DAYLIGHT
BEGIN:STANDARD
TZOFFSETFROM:+0300
TZOFFSETTO:+0200
TZNAME:EET
DTSTART:20261025T010000
END:STANDARD
END:VTIMEZONE
BEGIN:VEVENT
DTSTART;VALUE=DATE:20250614
DTEND;VALUE=DATE:20250615
DTSTAMP:20260420T024026
CREATED:20250724T133247Z
LAST-MODIFIED:20250724T133247Z
UID:1060-1749859200-1749945599@saxophone.bg
SUMMARY:Ресторант "Корона" - Балчик - Сватбено парти
DESCRIPTION:
URL:https://saxophone.bg/event/%d1%80%d0%b5%d1%81%d1%82%d0%be%d1%80%d0%b0%d0%bd%d1%82-%d0%ba%d0%be%d1%80%d0%be%d0%bd%d0%b0-%d0%b1%d0%b0%d0%bb%d1%87%d0%b8%d0%ba-%d1%81%d0%b2%d0%b0%d1%82%d0%b1%d0%b5%d0%bd%d0%be-%d0%bf%d0%b0/
END:VEVENT
BEGIN:VEVENT
DTSTART;VALUE=DATE:20250613
DTEND;VALUE=DATE:20250614
DTSTAMP:20260420T024026
CREATED:20250724T132351Z
LAST-MODIFIED:20250724T132351Z
UID:1057-1749772800-1749859199@saxophone.bg
SUMMARY:Glamour Beach Sveti Vlas
DESCRIPTION:
URL:https://saxophone.bg/event/glamour-beach-sveti-vlas/
END:VEVENT
BEGIN:VEVENT
DTSTART;VALUE=DATE:20250608
DTEND;VALUE=DATE:20250609
DTSTAMP:20260420T024026
CREATED:20250724T131839Z
LAST-MODIFIED:20250724T131839Z
UID:1055-1749340800-1749427199@saxophone.bg
SUMMARY:Парамонт Гардънс -Частно парти - Соифя
DESCRIPTION:
URL:https://saxophone.bg/event/%d0%bf%d0%b0%d1%80%d0%b0%d0%bc%d0%be%d0%bd%d1%82-%d0%b3%d0%b0%d1%80%d0%b4%d1%8a%d0%bd%d1%81-%d1%87%d0%b0%d1%81%d1%82%d0%bd%d0%be-%d0%bf%d0%b0%d1%80%d1%82%d0%b8-%d1%81%d0%be%d0%b8%d1%84%d1%8f/
END:VEVENT
BEGIN:VEVENT
DTSTART;VALUE=DATE:20250531
DTEND;VALUE=DATE:20250601
DTSTAMP:20260420T024026
CREATED:20250724T131243Z
LAST-MODIFIED:20250724T131639Z
UID:1053-1748649600-1748735999@saxophone.bg
SUMMARY:Калиакрия Резорт - Частно парти
DESCRIPTION:
URL:https://saxophone.bg/event/%d0%ba%d0%b0%d0%bb%d0%b8%d0%b0%d0%ba%d1%80%d0%b8%d1%8f-%d1%80%d0%b5%d0%b7%d0%be%d1%80%d1%82-%d1%87%d0%b0%d1%81%d1%82%d0%bd%d0%be-%d0%bf%d0%b0%d1%80%d1%82%d0%b8/
END:VEVENT
BEGIN:VEVENT
DTSTART;VALUE=DATE:20250531
DTEND;VALUE=DATE:20250601
DTSTAMP:20260420T024026
CREATED:20250724T130912Z
LAST-MODIFIED:20250724T131924Z
UID:1051-1748649600-1748735999@saxophone.bg
SUMMARY:Морско Казино - Варна - Сватбено парти
DESCRIPTION:Саксофон | Музика на живо | Уелкъм дринк | Събития | Сватби
URL:https://saxophone.bg/event/%d0%bc%d0%be%d1%80%d1%81%d0%ba%d0%be-%d0%ba%d0%b0%d0%b7%d0%b8%d0%bd%d0%be-%d0%b2%d0%b0%d1%80%d0%bd%d0%b0-%d1%81%d0%b2%d0%b0%d1%82%d0%b1%d0%b5%d0%bd%d0%be-%d0%bf%d0%b0%d1%80%d1%82%d0%b8/
END:VEVENT
BEGIN:VEVENT
DTSTART;VALUE=DATE:20250530
DTEND;VALUE=DATE:20250531
DTSTAMP:20260420T024026
CREATED:20250724T125921Z
LAST-MODIFIED:20250724T125921Z
UID:1049-1748563200-1748649599@saxophone.bg
SUMMARY:Ресторант Marchè - Варна
DESCRIPTION:
URL:https://saxophone.bg/event/%d1%80%d0%b5%d1%81%d1%82%d0%be%d1%80%d0%b0%d0%bd%d1%82-marche-%d0%b2%d0%b0%d1%80%d0%bd%d0%b0/
END:VEVENT
BEGIN:VEVENT
DTSTART;VALUE=DATE:20250526
DTEND;VALUE=DATE:20250527
DTSTAMP:20260420T024026
CREATED:20250724T125527Z
LAST-MODIFIED:20250724T132333Z
UID:1047-1748217600-1748303999@saxophone.bg
SUMMARY:Абитурентски бал - Варна
DESCRIPTION:
URL:https://saxophone.bg/event/%d0%b0%d0%b1%d0%b8%d1%82%d1%83%d1%80%d0%b5%d0%bd%d1%82%d1%81%d0%ba%d0%b8-%d0%b1%d0%b0%d0%bb-%d0%b2%d0%b0%d1%80%d0%bd%d0%b0/
END:VEVENT
BEGIN:VEVENT
DTSTART;VALUE=DATE:20250524
DTEND;VALUE=DATE:20250525
DTSTAMP:20260420T024026
CREATED:20250724T124851Z
LAST-MODIFIED:20250724T124851Z
UID:1045-1748044800-1748131199@saxophone.bg
SUMMARY:Opticlasa Частно парти
DESCRIPTION:
URL:https://saxophone.bg/event/opticlasa-%d1%87%d0%b0%d1%81%d1%82%d0%bd%d0%be-%d0%bf%d0%b0%d1%80%d1%82%d0%b8/
END:VEVENT
BEGIN:VEVENT
DTSTART;VALUE=DATE:20250506
DTEND;VALUE=DATE:20250507
DTSTAMP:20260420T024026
CREATED:20250711T071754Z
LAST-MODIFIED:20250711T071754Z
UID:1039-1746489600-1746575999@saxophone.bg
SUMMARY:Частно парти с.Брацигово
DESCRIPTION:Саксофон | Музика на живо | Уелкъм дринк | Събития | Сватби
URL:https://saxophone.bg/event/%d1%87%d0%b0%d1%81%d1%82%d0%bd%d0%be-%d0%bf%d0%b0%d1%80%d1%82%d0%b8-%d1%81-%d0%b1%d1%80%d0%b0%d1%86%d0%b8%d0%b3%d0%be%d0%b2%d0%be/
END:VEVENT
BEGIN:VEVENT
DTSTART;VALUE=DATE:20250328
DTEND;VALUE=DATE:20250329
DTSTAMP:20260420T024026
CREATED:20250311T123701Z
LAST-MODIFIED:20250311T123701Z
UID:1019-1743120000-1743206399@saxophone.bg
SUMMARY:Riva Restaurant & Bar\, Varna
DESCRIPTION:Саксофон | Музика на живо | Уелкъм дринк | Събития | Сватби
URL:https://saxophone.bg/event/riva-restaurant-bar-varna-9/
END:VEVENT
BEGIN:VEVENT
DTSTART;TZID=Europe/Helsinki:20250325T080000
DTEND;TZID=Europe/Helsinki:20250326T170000
DTSTAMP:20260420T024026
CREATED:20250311T125553Z
LAST-MODIFIED:20250311T125553Z
UID:1021-1742889600-1743008400@saxophone.bg
SUMMARY:Gourmet Fest 2025 Varna
DESCRIPTION:Саксофон | Музика на живо | Уелкъм дринк | Събития | Сватби
URL:https://saxophone.bg/event/gourmet-fest-2025-varna/
END:VEVENT
BEGIN:VEVENT
DTSTART;VALUE=DATE:20250314
DTEND;VALUE=DATE:20250315
DTSTAMP:20260420T024026
CREATED:20250311T121817Z
LAST-MODIFIED:20250311T121817Z
UID:1017-1741910400-1741996799@saxophone.bg
SUMMARY:Riva Restaurant & Bar\, Varna
DESCRIPTION:Саксофон | Музика на живо | Уелкъм дринк | Събития | Сватби
URL:https://saxophone.bg/event/riva-restaurant-bar-varna-8/
END:VEVENT
BEGIN:VEVENT
DTSTART;VALUE=DATE:20250308
DTEND;VALUE=DATE:20250309
DTSTAMP:20260420T024026
CREATED:20250311T121151Z
LAST-MODIFIED:20250311T121151Z
UID:1011-1741392000-1741478399@saxophone.bg
SUMMARY:хотел Парома SKI Пампорово
DESCRIPTION:Саксофон | Музика на живо | Уелкъм дринк | Събития | Сватби
URL:https://saxophone.bg/event/%d1%85%d0%be%d1%82%d0%b5%d0%bb-%d0%bf%d0%b0%d1%80%d0%be%d0%bc%d0%b0-ski-%d0%bf%d0%b0%d0%bc%d0%bf%d0%be%d1%80%d0%be%d0%b2%d0%be-2/
END:VEVENT
BEGIN:VEVENT
DTSTART;VALUE=DATE:20250306
DTEND;VALUE=DATE:20250307
DTSTAMP:20260420T024026
CREATED:20250311T121052Z
LAST-MODIFIED:20250311T121052Z
UID:1009-1741219200-1741305599@saxophone.bg
SUMMARY:Riva Restaurant & Bar\, Varna
DESCRIPTION:Саксофон | Музика на живо | Уелкъм дринк | Събития | Сватби
URL:https://saxophone.bg/event/riva-restaurant-bar-varna-7/
END:VEVENT
BEGIN:VEVENT
DTSTART;TZID=Europe/Helsinki:20250221T080000
DTEND;TZID=Europe/Helsinki:20250223T170000
DTSTAMP:20260420T024026
CREATED:20250311T120505Z
LAST-MODIFIED:20250311T121657Z
UID:1001-1740124800-1740330000@saxophone.bg
SUMMARY:СВАТБЕНО ИЗЛОЖЕНИЕ ХОРИЗОНТ 2025 ВАРНА
DESCRIPTION:Саксофон | Музика на живо | Уелкъм дринк | Събития | Сватби
URL:https://saxophone.bg/event/%d1%81%d0%b2%d0%b0%d1%82%d0%b1%d0%b5%d0%bd%d0%be-%d0%b8%d0%b7%d0%bb%d0%be%d0%b6%d0%b5%d0%bd%d0%b8%d0%b5-%d1%85%d0%be%d1%80%d0%b8%d0%b7%d0%be%d0%bd%d1%82-2025/
END:VEVENT
BEGIN:VEVENT
DTSTART;VALUE=DATE:20250220
DTEND;VALUE=DATE:20250221
DTSTAMP:20260420T024026
CREATED:20250311T120932Z
LAST-MODIFIED:20250311T120932Z
UID:1007-1740009600-1740095999@saxophone.bg
SUMMARY:Riva Restaurant & Bar\, Varna
DESCRIPTION:Саксофон | Музика на живо | Уелкъм дринк | Събития | Сватби
URL:https://saxophone.bg/event/riva-restaurant-bar-varna-6/
END:VEVENT
BEGIN:VEVENT
DTSTART;VALUE=DATE:20250214
DTEND;VALUE=DATE:20250215
DTSTAMP:20260420T024026
CREATED:20250311T120745Z
LAST-MODIFIED:20250311T120745Z
UID:1004-1739491200-1739577599@saxophone.bg
SUMMARY:хотел Парома SKI Пампорово
DESCRIPTION:Саксофон | Музика на живо | Уелкъм дринк | Събития | Сватби
URL:https://saxophone.bg/event/%d1%85%d0%be%d1%82%d0%b5%d0%bb-%d0%bf%d0%b0%d1%80%d0%be%d0%bc%d0%b0-ski-%d0%bf%d0%b0%d0%bc%d0%bf%d0%be%d1%80%d0%be%d0%b2%d0%be/
END:VEVENT
BEGIN:VEVENT
DTSTART;VALUE=DATE:20250207
DTEND;VALUE=DATE:20250208
DTSTAMP:20260420T024026
CREATED:20250311T121523Z
LAST-MODIFIED:20250311T121523Z
UID:1013-1738886400-1738972799@saxophone.bg
SUMMARY:OLD MONEY Class - Арт Галерия - Пловдив
DESCRIPTION:Саксофон | Музика на живо | Уелкъм дринк | Събития | Сватби
URL:https://saxophone.bg/event/old-money-class-%d0%b0%d1%80%d1%82-%d0%b3%d0%b0%d0%bb%d0%b5%d1%80%d0%b8%d1%8f-%d0%bf%d0%bb%d0%be%d0%b2%d0%b4%d0%b8%d0%b2/
END:VEVENT
BEGIN:VEVENT
DTSTART;VALUE=DATE:20250206
DTEND;VALUE=DATE:20250207
DTSTAMP:20260420T024026
CREATED:20250311T120053Z
LAST-MODIFIED:20250311T120053Z
UID:999-1738800000-1738886399@saxophone.bg
SUMMARY:Riva Restaurant & Bar\, Varna
DESCRIPTION:Саксофон | Музика на живо | Уелкъм дринк | Събития | Сватби
URL:https://saxophone.bg/event/riva-restaurant-bar-varna-5/
END:VEVENT
BEGIN:VEVENT
DTSTART;TZID=Europe/Helsinki:20250123T080000
DTEND;TZID=Europe/Helsinki:20250123T170000
DTSTAMP:20260420T024026
CREATED:20250311T115931Z
LAST-MODIFIED:20250311T115931Z
UID:997-1737619200-1737651600@saxophone.bg
SUMMARY:Riva Restaurant & Bar\, Varna
DESCRIPTION:Саксофон | Музика на живо | Уелкъм дринк | Събития | Сватби
URL:https://saxophone.bg/event/riva-restaurant-bar-varna-4/
END:VEVENT
BEGIN:VEVENT
DTSTART;VALUE=DATE:20250116
DTEND;VALUE=DATE:20250117
DTSTAMP:20260420T024026
CREATED:20250311T115651Z
LAST-MODIFIED:20250311T115651Z
UID:995-1736985600-1737071999@saxophone.bg
SUMMARY:Riva Restaurant & Bar\, Varna
DESCRIPTION:Саксофон | Музика на живо | Уелкъм дринк | Събития | Сватби
URL:https://saxophone.bg/event/riva-restaurant-bar-varna-3/
END:VEVENT
BEGIN:VEVENT
DTSTART;VALUE=DATE:20250109
DTEND;VALUE=DATE:20250110
DTSTAMP:20260420T024026
CREATED:20250311T115132Z
LAST-MODIFIED:20250311T115132Z
UID:993-1736380800-1736467199@saxophone.bg
SUMMARY:Riva Restaurant & Bar\, Varna
DESCRIPTION:Саксофон | Музика на живо | Уелкъм дринк | Събития | Сватби
URL:https://saxophone.bg/event/riva-restaurant-bar-varna-2/
END:VEVENT
BEGIN:VEVENT
DTSTART;VALUE=DATE:20241231
DTEND;VALUE=DATE:20250101
DTSTAMP:20260420T024026
CREATED:20250311T114755Z
LAST-MODIFIED:20250311T114755Z
UID:990-1735603200-1735689599@saxophone.bg
SUMMARY:Rtours Ltd. at Hawthorn Suites By Wyndham\, Турция
DESCRIPTION:Саксофон | Музика на живо | Уелкъм дринк | Събития | Сватби
URL:https://saxophone.bg/event/rtours-ltd-at-hawthorn-suites-by-wyndham-%d1%82%d1%83%d1%80%d1%86%d0%b8%d1%8f/
END:VEVENT
BEGIN:VEVENT
DTSTART;VALUE=DATE:20241029
DTEND;VALUE=DATE:20241030
DTSTAMP:20260420T024026
CREATED:20241003T140128Z
LAST-MODIFIED:20241003T140128Z
UID:979-1730160000-1730246399@saxophone.bg
SUMMARY:Интернационал Хотел Казино и Тауър Суитс\, Златни пясъци\, SAX NIGHT
DESCRIPTION:Саксофон | Музика на живо | Уелкъм дринк | Събития | Сватби
URL:https://saxophone.bg/event/%d0%b8%d0%bd%d1%82%d0%b5%d1%80%d0%bd%d0%b0%d1%86%d0%b8%d0%be%d0%bd%d0%b0%d0%bb-%d1%85%d0%be%d1%82%d0%b5%d0%bb-%d0%ba%d0%b0%d0%b7%d0%b8%d0%bd%d0%be-%d0%b8-%d1%82%d0%b0%d1%83%d1%8a%d1%80-%d1%81%d1%83-20/
END:VEVENT
BEGIN:VEVENT
DTSTART;VALUE=DATE:20241024
DTEND;VALUE=DATE:20241025
DTSTAMP:20260420T024026
CREATED:20241003T140455Z
LAST-MODIFIED:20241003T140455Z
UID:981-1729728000-1729814399@saxophone.bg
SUMMARY:Гранд хотел Димят - Варна - Частно парти - Sax live
DESCRIPTION:Саксофон | Музика на живо | Уелкъм дринк | Събития | Сватби
URL:https://saxophone.bg/event/%d0%b3%d1%80%d0%b0%d0%bd%d0%b4-%d1%85%d0%be%d1%82%d0%b5%d0%bb-%d0%b4%d0%b8%d0%bc%d1%8f%d1%82-%d0%b2%d0%b0%d1%80%d0%bd%d0%b0-%d1%87%d0%b0%d1%81%d1%82%d0%bd%d0%be-%d0%bf%d0%b0%d1%80%d1%82%d0%b8-sa/
END:VEVENT
BEGIN:VEVENT
DTSTART;VALUE=DATE:20241022
DTEND;VALUE=DATE:20241023
DTSTAMP:20260420T024026
CREATED:20241003T140004Z
LAST-MODIFIED:20241003T140004Z
UID:977-1729555200-1729641599@saxophone.bg
SUMMARY:Интернационал Хотел Казино и Тауър Суитс\, Златни пясъци\, SAX NIGHT
DESCRIPTION:Саксофон | Музика на живо | Уелкъм дринк | Събития | Сватби
URL:https://saxophone.bg/event/%d0%b8%d0%bd%d1%82%d0%b5%d1%80%d0%bd%d0%b0%d1%86%d0%b8%d0%be%d0%bd%d0%b0%d0%bb-%d1%85%d0%be%d1%82%d0%b5%d0%bb-%d0%ba%d0%b0%d0%b7%d0%b8%d0%bd%d0%be-%d0%b8-%d1%82%d0%b0%d1%83%d1%8a%d1%80-%d1%81%d1%83-19/
END:VEVENT
BEGIN:VEVENT
DTSTART;VALUE=DATE:20241018
DTEND;VALUE=DATE:20241019
DTSTAMP:20260420T024026
CREATED:20250311T114109Z
LAST-MODIFIED:20250311T114245Z
UID:987-1729209600-1729295999@saxophone.bg
SUMMARY:Мария Лалева - представяне на книгата "Пътища от огън"
DESCRIPTION:Саксофон | Музика на живо | Уелкъм дринк | Събития | Сватби
URL:https://saxophone.bg/event/%d0%bc%d0%b0%d1%80%d0%b8%d1%8f-%d0%bb%d0%b0%d0%bb%d0%b5%d0%b2%d0%b0-%d0%bf%d1%80%d0%b5%d0%b4%d1%81%d1%82%d0%b0%d0%b2%d1%8f%d0%bd%d0%b5-%d0%bd%d0%b0-%d0%ba%d0%bd%d0%b8%d0%b3%d0%b0%d1%82%d0%b0/
END:VEVENT
BEGIN:VEVENT
DTSTART;VALUE=DATE:20241015
DTEND;VALUE=DATE:20241016
DTSTAMP:20260420T024026
CREATED:20241003T135749Z
LAST-MODIFIED:20241003T135749Z
UID:975-1728950400-1729036799@saxophone.bg
SUMMARY:Интернационал Хотел Казино и Тауър Суитс\, Златни пясъци\, SAX NIGHT
DESCRIPTION:Саксофон | Музика на живо | Уелкъм дринк | Събития | Сватби
URL:https://saxophone.bg/event/%d0%b8%d0%bd%d1%82%d0%b5%d1%80%d0%bd%d0%b0%d1%86%d0%b8%d0%be%d0%bd%d0%b0%d0%bb-%d1%85%d0%be%d1%82%d0%b5%d0%bb-%d0%ba%d0%b0%d0%b7%d0%b8%d0%bd%d0%be-%d0%b8-%d1%82%d0%b0%d1%83%d1%8a%d1%80-%d1%81%d1%83-18/
END:VEVENT
BEGIN:VEVENT
DTSTART;VALUE=DATE:20241008
DTEND;VALUE=DATE:20241009
DTSTAMP:20260420T024026
CREATED:20241003T135621Z
LAST-MODIFIED:20241003T135621Z
UID:973-1728345600-1728431999@saxophone.bg
SUMMARY:Интернационал Хотел Казино и Тауър Суитс\, Златни пясъци\, SAX NIGHT
DESCRIPTION:Саксофон | Музика на живо | Уелкъм дринк | Събития | Сватби
URL:https://saxophone.bg/event/%d0%b8%d0%bd%d1%82%d0%b5%d1%80%d0%bd%d0%b0%d1%86%d0%b8%d0%be%d0%bd%d0%b0%d0%bb-%d1%85%d0%be%d1%82%d0%b5%d0%bb-%d0%ba%d0%b0%d0%b7%d0%b8%d0%bd%d0%be-%d0%b8-%d1%82%d0%b0%d1%83%d1%8a%d1%80-%d1%81%d1%83-17/
END:VEVENT
BEGIN:VEVENT
DTSTART;VALUE=DATE:20240928
DTEND;VALUE=DATE:20240929
DTSTAMP:20260420T024026
CREATED:20241003T135433Z
LAST-MODIFIED:20241003T135433Z
UID:970-1727481600-1727567999@saxophone.bg
SUMMARY:SENSO CLUB - 100 Кила and Sax live party
DESCRIPTION:Саксофон | Музика на живо | Уелкъм дринк | Събития | Сватби
URL:https://saxophone.bg/event/senso-club-100-%d0%ba%d0%b8%d0%bb%d0%b0-and-sax-live-party/
END:VEVENT
END:VCALENDAR