BEGIN:VCALENDAR
VERSION:2.0
PRODID:-//www.saxophone.bg - ECPv6.15.11//NONSGML v1.0//EN
CALSCALE:GREGORIAN
METHOD:PUBLISH
X-WR-CALNAME:www.saxophone.bg
X-ORIGINAL-URL:https://saxophone.bg
X-WR-CALDESC:Събития за www.saxophone.bg
REFRESH-INTERVAL;VALUE=DURATION:PT1H
X-Robots-Tag:noindex
X-PUBLISHED-TTL:PT1H
BEGIN:VTIMEZONE
TZID:Europe/Helsinki
BEGIN:DAYLIGHT
TZOFFSETFROM:+0200
TZOFFSETTO:+0300
TZNAME:EEST
DTSTART:20240331T010000
END:DAYLIGHT
BEGIN:STANDARD
TZOFFSETFROM:+0300
TZOFFSETTO:+0200
TZNAME:EET
DTSTART:20241027T010000
END:STANDARD
BEGIN:DAYLIGHT
TZOFFSETFROM:+0200
TZOFFSETTO:+0300
TZNAME:EEST
DTSTART:20250330T010000
END:DAYLIGHT
BEGIN:STANDARD
TZOFFSETFROM:+0300
TZOFFSETTO:+0200
TZNAME:EET
DTSTART:20251026T010000
END:STANDARD
BEGIN:DAYLIGHT
TZOFFSETFROM:+0200
TZOFFSETTO:+0300
TZNAME:EEST
DTSTART:20260329T010000
END:DAYLIGHT
BEGIN:STANDARD
TZOFFSETFROM:+0300
TZOFFSETTO:+0200
TZNAME:EET
DTSTART:20261025T010000
END:STANDARD
END:VTIMEZONE
BEGIN:VEVENT
DTSTART;VALUE=DATE:20250718
DTEND;VALUE=DATE:20250719
DTSTAMP:20260419T220154
CREATED:20250724T181154Z
LAST-MODIFIED:20250724T181154Z
UID:1195-1752796800-1752883199@saxophone.bg
SUMMARY:Бар "The Martini Food & Cocktails" гр. Варна
DESCRIPTION:
URL:https://saxophone.bg/event/%d0%b1%d0%b0%d1%80-the-martini-food-cocktails-%d0%b3%d1%80-%d0%b2%d0%b0%d1%80%d0%bd%d0%b0/
END:VEVENT
BEGIN:VEVENT
DTSTART;VALUE=DATE:20250718
DTEND;VALUE=DATE:20250719
DTSTAMP:20260419T220154
CREATED:20250724T181039Z
LAST-MODIFIED:20250724T181039Z
UID:1193-1752796800-1752883199@saxophone.bg
SUMMARY:Хотел "Айсберг" - Балчик - Частно парти
DESCRIPTION:
URL:https://saxophone.bg/event/%d1%85%d0%be%d1%82%d0%b5%d0%bb-%d0%b0%d0%b9%d1%81%d0%b1%d0%b5%d1%80%d0%b3-%d0%b1%d0%b0%d0%bb%d1%87%d0%b8%d0%ba-%d1%87%d0%b0%d1%81%d1%82%d0%bd%d0%be-%d0%bf%d0%b0%d1%80%d1%82%d0%b8/
END:VEVENT
BEGIN:VEVENT
DTSTART;VALUE=DATE:20250717
DTEND;VALUE=DATE:20250718
DTSTAMP:20260419T220154
CREATED:20250724T143501Z
LAST-MODIFIED:20250724T143501Z
UID:1126-1752710400-1752796799@saxophone.bg
SUMMARY:Хотел Meliá Grand Hermitage - к.к. Златни Пясъци
DESCRIPTION:Саксофон | Музика на живо | Уелкъм дринк | Събития | Сватби
URL:https://saxophone.bg/event/%d1%85%d0%be%d1%82%d0%b5%d0%bb-melia-grand-hermitage-%d0%ba-%d0%ba-%d0%b7%d0%bb%d0%b0%d1%82%d0%bd%d0%b8-%d0%bf%d1%8f%d1%81%d1%8a%d1%86%d0%b8-10/
END:VEVENT
BEGIN:VEVENT
DTSTART;VALUE=DATE:20250716
DTEND;VALUE=DATE:20250717
DTSTAMP:20260419T220154
CREATED:20250724T175958Z
LAST-MODIFIED:20250724T175958Z
UID:1177-1752624000-1752710399@saxophone.bg
SUMMARY:Хотел Грифид Метропол Златни пясъци
DESCRIPTION:Саксофон | Музика на живо | Уелкъм дринк | Събития | Сватби
URL:https://saxophone.bg/event/%d1%85%d0%be%d1%82%d0%b5%d0%bb-%d0%b3%d1%80%d0%b8%d1%84%d0%b8%d0%b4-%d0%bc%d0%b5%d1%82%d1%80%d0%be%d0%bf%d0%be%d0%bb-%d0%b7%d0%bb%d0%b0%d1%82%d0%bd%d0%b8-%d0%bf%d1%8f%d1%81%d1%8a%d1%86%d0%b8-3/
END:VEVENT
BEGIN:VEVENT
DTSTART;VALUE=DATE:20250715
DTEND;VALUE=DATE:20250716
DTSTAMP:20260419T220154
CREATED:20250724T145539Z
LAST-MODIFIED:20250724T175538Z
UID:1156-1752537600-1752623999@saxophone.bg
SUMMARY:Интернационал Хотел Казино и Тауър Суитс Златни пясъци SAX NIGHT
DESCRIPTION:Саксофон | Музика на живо | Уелкъм дринк | Събития | Сватби
URL:https://saxophone.bg/event/%d0%b8%d0%bd%d1%82%d0%b5%d1%80%d0%bd%d0%b0%d1%86%d0%b8%d0%be%d0%bd%d0%b0%d0%bb-%d1%85%d0%be%d1%82%d0%b5%d0%bb-%d0%ba%d0%b0%d0%b7%d0%b8%d0%bd%d0%be-%d0%b8-%d1%82%d0%b0%d1%83%d1%8a%d1%80-%d1%81%d1%83-23/
END:VEVENT
BEGIN:VEVENT
DTSTART;VALUE=DATE:20250715
DTEND;VALUE=DATE:20250716
DTSTAMP:20260419T220154
CREATED:20250724T142204Z
LAST-MODIFIED:20250724T142204Z
UID:1103-1752537600-1752623999@saxophone.bg
SUMMARY:Хотел ГРИФИД НОА Златни пясъци SAX Live
DESCRIPTION:Саксофон | Музика на живо | Уелкъм дринк | Събития | Сватби
URL:https://saxophone.bg/event/%d1%85%d0%be%d1%82%d0%b5%d0%bb-%d0%b3%d1%80%d0%b8%d1%84%d0%b8%d0%b4-%d0%bd%d0%be%d0%b0-%d0%b7%d0%bb%d0%b0%d1%82%d0%bd%d0%b8-%d0%bf%d1%8f%d1%81%d1%8a%d1%86%d0%b8-sax-live/
END:VEVENT
BEGIN:VEVENT
DTSTART;VALUE=DATE:20250714
DTEND;VALUE=DATE:20250715
DTSTAMP:20260419T220154
CREATED:20250724T143407Z
LAST-MODIFIED:20250724T143407Z
UID:1124-1752451200-1752537599@saxophone.bg
SUMMARY:Хотел Meliá Grand Hermitage - к.к. Златни Пясъци
DESCRIPTION:Саксофон | Музика на живо | Уелкъм дринк | Събития | Сватби
URL:https://saxophone.bg/event/%d1%85%d0%be%d1%82%d0%b5%d0%bb-melia-grand-hermitage-%d0%ba-%d0%ba-%d0%b7%d0%bb%d0%b0%d1%82%d0%bd%d0%b8-%d0%bf%d1%8f%d1%81%d1%8a%d1%86%d0%b8-9/
END:VEVENT
BEGIN:VEVENT
DTSTART;VALUE=DATE:20250712
DTEND;VALUE=DATE:20250713
DTSTAMP:20260419T220154
CREATED:20250724T180928Z
LAST-MODIFIED:20250724T180928Z
UID:1191-1752278400-1752364799@saxophone.bg
SUMMARY:Комплекс "Кедъра "- Варна
DESCRIPTION:
URL:https://saxophone.bg/event/%d0%ba%d0%be%d0%bc%d0%bf%d0%bb%d0%b5%d0%ba%d1%81-%d0%ba%d0%b5%d0%b4%d1%8a%d1%80%d0%b0-%d0%b2%d0%b0%d1%80%d0%bd%d0%b0/
END:VEVENT
BEGIN:VEVENT
DTSTART;VALUE=DATE:20250712
DTEND;VALUE=DATE:20250713
DTSTAMP:20260419T220154
CREATED:20250724T180730Z
LAST-MODIFIED:20250724T180730Z
UID:1189-1752278400-1752364799@saxophone.bg
SUMMARY:Ключето до морето - Sax night
DESCRIPTION:Саксофон | Музика на живо | Уелкъм дринк | Събития | Сватби
URL:https://saxophone.bg/event/%d0%ba%d0%bb%d1%8e%d1%87%d0%b5%d1%82%d0%be-%d0%b4%d0%be-%d0%bc%d0%be%d1%80%d0%b5%d1%82%d0%be-sax-night-5/
END:VEVENT
BEGIN:VEVENT
DTSTART;VALUE=DATE:20250711
DTEND;VALUE=DATE:20250712
DTSTAMP:20260419T220154
CREATED:20250724T180601Z
LAST-MODIFIED:20250724T180601Z
UID:1187-1752192000-1752278399@saxophone.bg
SUMMARY:Ресторант "Корона" - Балчик - Сватбено парти
DESCRIPTION:
URL:https://saxophone.bg/event/%d1%80%d0%b5%d1%81%d1%82%d0%be%d1%80%d0%b0%d0%bd%d1%82-%d0%ba%d0%be%d1%80%d0%be%d0%bd%d0%b0-%d0%b1%d0%b0%d0%bb%d1%87%d0%b8%d0%ba-%d1%81%d0%b2%d0%b0%d1%82%d0%b1%d0%b5%d0%bd%d0%be-%d0%bf%d0%b0-2/
END:VEVENT
BEGIN:VEVENT
DTSTART;VALUE=DATE:20250710
DTEND;VALUE=DATE:20250711
DTSTAMP:20260419T220154
CREATED:20250724T143320Z
LAST-MODIFIED:20250724T143320Z
UID:1122-1752105600-1752191999@saxophone.bg
SUMMARY:Хотел Meliá Grand Hermitage - к.к. Златни Пясъци
DESCRIPTION:Саксофон | Музика на живо | Уелкъм дринк | Събития | Сватби
URL:https://saxophone.bg/event/%d1%85%d0%be%d1%82%d0%b5%d0%bb-melia-grand-hermitage-%d0%ba-%d0%ba-%d0%b7%d0%bb%d0%b0%d1%82%d0%bd%d0%b8-%d0%bf%d1%8f%d1%81%d1%8a%d1%86%d0%b8-8/
END:VEVENT
BEGIN:VEVENT
DTSTART;VALUE=DATE:20250708
DTEND;VALUE=DATE:20250709
DTSTAMP:20260419T220154
CREATED:20250724T145421Z
LAST-MODIFIED:20250724T145421Z
UID:1154-1751932800-1752019199@saxophone.bg
SUMMARY:Интернационал Хотел Казино и Тауър Суитс Златни пясъци\, SAX NIGHT
DESCRIPTION:Саксофон | Музика на живо | Уелкъм дринк | Събития | Сватби
URL:https://saxophone.bg/event/%d0%b8%d0%bd%d1%82%d0%b5%d1%80%d0%bd%d0%b0%d1%86%d0%b8%d0%be%d0%bd%d0%b0%d0%bb-%d1%85%d0%be%d1%82%d0%b5%d0%bb-%d0%ba%d0%b0%d0%b7%d0%b8%d0%bd%d0%be-%d0%b8-%d1%82%d0%b0%d1%83%d1%8a%d1%80-%d1%81%d1%83-22/
END:VEVENT
BEGIN:VEVENT
DTSTART;VALUE=DATE:20250708
DTEND;VALUE=DATE:20250709
DTSTAMP:20260419T220154
CREATED:20250724T142106Z
LAST-MODIFIED:20250724T142106Z
UID:1101-1751932800-1752019199@saxophone.bg
SUMMARY:Хотел ГРИФИД НОА\, Златни пясъци\, България SAX Live
DESCRIPTION:Саксофон | Музика на живо | Уелкъм дринк | Събития | Сватби
URL:https://saxophone.bg/event/%d1%85%d0%be%d1%82%d0%b5%d0%bb-%d0%b3%d1%80%d0%b8%d1%84%d0%b8%d0%b4-%d0%bd%d0%be%d0%b0-%d0%b7%d0%bb%d0%b0%d1%82%d0%bd%d0%b8-%d0%bf%d1%8f%d1%81%d1%8a%d1%86%d0%b8-%d0%b1%d1%8a%d0%bb%d0%b3%d0%b0%d1%80-12/
END:VEVENT
BEGIN:VEVENT
DTSTART;VALUE=DATE:20250707
DTEND;VALUE=DATE:20250708
DTSTAMP:20260419T220154
CREATED:20250724T143052Z
LAST-MODIFIED:20250724T143143Z
UID:1119-1751846400-1751932799@saxophone.bg
SUMMARY:Хотел Meliá Grand Hermitage - к.к. Златни Пясъци
DESCRIPTION:Саксофон | Музика на живо | Уелкъм дринк | Събития | Сватби
URL:https://saxophone.bg/event/%d1%85%d0%be%d1%82%d0%b5%d0%bb-melia-grand-hermitage-%d0%ba-%d0%ba-%d0%b7%d0%bb%d0%b0%d1%82%d0%bd%d0%b8-%d0%bf%d1%8f%d1%81%d1%8a%d1%86%d0%b8-7/
END:VEVENT
BEGIN:VEVENT
DTSTART;VALUE=DATE:20250706
DTEND;VALUE=DATE:20250707
DTSTAMP:20260419T220154
CREATED:20250724T175914Z
LAST-MODIFIED:20250724T175914Z
UID:1175-1751760000-1751846399@saxophone.bg
SUMMARY:Хотел Грифид Метропол Златни пясъци
DESCRIPTION:Саксофон | Музика на живо | Уелкъм дринк | Събития | Сватби
URL:https://saxophone.bg/event/%d1%85%d0%be%d1%82%d0%b5%d0%bb-%d0%b3%d1%80%d0%b8%d1%84%d0%b8%d0%b4-%d0%bc%d0%b5%d1%82%d1%80%d0%be%d0%bf%d0%be%d0%bb-%d0%b7%d0%bb%d0%b0%d1%82%d0%bd%d0%b8-%d0%bf%d1%8f%d1%81%d1%8a%d1%86%d0%b8-2/
END:VEVENT
BEGIN:VEVENT
DTSTART;VALUE=DATE:20250705
DTEND;VALUE=DATE:20250706
DTSTAMP:20260419T220154
CREATED:20250724T175745Z
LAST-MODIFIED:20250724T175752Z
UID:1172-1751673600-1751759999@saxophone.bg
SUMMARY:Хотел Хоризонт - Варна - Сватбено парти
DESCRIPTION:Саксофон | Музика на живо | Уелкъм дринк | Събития | Сватби
URL:https://saxophone.bg/event/%d1%85%d0%be%d1%82%d0%b5%d0%bb-%d1%85%d0%be%d1%80%d0%b8%d0%b7%d0%be%d0%bd%d1%82-%d0%b2%d0%b0%d1%80%d0%bd%d0%b0-%d1%81%d0%b2%d0%b0%d1%82%d0%b1%d0%b5%d0%bd%d0%be-%d0%bf%d0%b0%d1%80%d1%82%d0%b8/
END:VEVENT
BEGIN:VEVENT
DTSTART;VALUE=DATE:20250703
DTEND;VALUE=DATE:20250704
DTSTAMP:20260419T220154
CREATED:20250724T142917Z
LAST-MODIFIED:20250724T142917Z
UID:1117-1751500800-1751587199@saxophone.bg
SUMMARY:Хотел Meliá Grand Hermitage - к.к. Златни Пясъци
DESCRIPTION:Саксофон | Музика на живо | Уелкъм дринк | Събития | Сватби
URL:https://saxophone.bg/event/%d1%85%d0%be%d1%82%d0%b5%d0%bb-melia-grand-hermitage-%d0%ba-%d0%ba-%d0%b7%d0%bb%d0%b0%d1%82%d0%bd%d0%b8-%d0%bf%d1%8f%d1%81%d1%8a%d1%86%d0%b8-6/
END:VEVENT
BEGIN:VEVENT
DTSTART;VALUE=DATE:20250702
DTEND;VALUE=DATE:20250703
DTSTAMP:20260419T220154
CREATED:20250724T145310Z
LAST-MODIFIED:20250724T145310Z
UID:1152-1751414400-1751500799@saxophone.bg
SUMMARY:Интернационал Хотел Казино и Тауър Суитс Златни пясъци\, SAX NIGHT
DESCRIPTION:Саксофон | Музика на живо | Уелкъм дринк | Събития | Сватби
URL:https://saxophone.bg/event/%d0%b8%d0%bd%d1%82%d0%b5%d1%80%d0%bd%d0%b0%d1%86%d0%b8%d0%be%d0%bd%d0%b0%d0%bb-%d1%85%d0%be%d1%82%d0%b5%d0%bb-%d0%ba%d0%b0%d0%b7%d0%b8%d0%bd%d0%be-%d0%b8-%d1%82%d0%b0%d1%83%d1%8a%d1%80-%d1%81%d1%83-21/
END:VEVENT
BEGIN:VEVENT
DTSTART;VALUE=DATE:20250701
DTEND;VALUE=DATE:20250702
DTSTAMP:20260419T220154
CREATED:20250724T142004Z
LAST-MODIFIED:20250724T142004Z
UID:1099-1751328000-1751414399@saxophone.bg
SUMMARY:Хотел ГРИФИД НОА\, Златни пясъци\, България SAX Live
DESCRIPTION:Саксофон | Музика на живо | Уелкъм дринк | Събития | Сватби
URL:https://saxophone.bg/event/%d1%85%d0%be%d1%82%d0%b5%d0%bb-%d0%b3%d1%80%d0%b8%d1%84%d0%b8%d0%b4-%d0%bd%d0%be%d0%b0-%d0%b7%d0%bb%d0%b0%d1%82%d0%bd%d0%b8-%d0%bf%d1%8f%d1%81%d1%8a%d1%86%d0%b8-%d0%b1%d1%8a%d0%bb%d0%b3%d0%b0%d1%80-11/
END:VEVENT
BEGIN:VEVENT
DTSTART;VALUE=DATE:20250630
DTEND;VALUE=DATE:20250701
DTSTAMP:20260419T220154
CREATED:20250724T141729Z
LAST-MODIFIED:20250724T141729Z
UID:1097-1751241600-1751327999@saxophone.bg
SUMMARY:BlackSeaRama - Wedding Party - Sax Live
DESCRIPTION:Саксофон | Музика на живо | Уелкъм дринк | Събития | Сватби
URL:https://saxophone.bg/event/blacksearama-wedding-party-sax-live-2/
END:VEVENT
BEGIN:VEVENT
DTSTART;VALUE=DATE:20250630
DTEND;VALUE=DATE:20250701
DTSTAMP:20260419T220154
CREATED:20250724T141617Z
LAST-MODIFIED:20250724T141617Z
UID:1095-1751241600-1751327999@saxophone.bg
SUMMARY:Хотел Meliá Grand Hermitage - к.к. Златни Пясъци
DESCRIPTION:Саксофон | Музика на живо | Уелкъм дринк | Събития | Сватби
URL:https://saxophone.bg/event/%d1%85%d0%be%d1%82%d0%b5%d0%bb-melia-grand-hermitage-%d0%ba-%d0%ba-%d0%b7%d0%bb%d0%b0%d1%82%d0%bd%d0%b8-%d0%bf%d1%8f%d1%81%d1%8a%d1%86%d0%b8-5/
END:VEVENT
BEGIN:VEVENT
DTSTART;VALUE=DATE:20250629
DTEND;VALUE=DATE:20250630
DTSTAMP:20260419T220154
CREATED:20250724T141444Z
LAST-MODIFIED:20250724T141444Z
UID:1093-1751155200-1751241599@saxophone.bg
SUMMARY:See Me Beach - Wedding party - Sax live
DESCRIPTION:Саксофон | Музика на живо | Уелкъм дринк | Събития | Сватби
URL:https://saxophone.bg/event/see-me-beach-wedding-party-sax-live-3/
END:VEVENT
BEGIN:VEVENT
DTSTART;VALUE=DATE:20250628
DTEND;VALUE=DATE:20250629
DTSTAMP:20260419T220154
CREATED:20250724T141319Z
LAST-MODIFIED:20250724T141319Z
UID:1091-1751068800-1751155199@saxophone.bg
SUMMARY:Ключето до морето - Sax night
DESCRIPTION:Саксофон | Музика на живо | Уелкъм дринк | Събития | Сватби
URL:https://saxophone.bg/event/%d0%ba%d0%bb%d1%8e%d1%87%d0%b5%d1%82%d0%be-%d0%b4%d0%be-%d0%bc%d0%be%d1%80%d0%b5%d1%82%d0%be-sax-night-4/
END:VEVENT
BEGIN:VEVENT
DTSTART;VALUE=DATE:20250627
DTEND;VALUE=DATE:20250628
DTSTAMP:20260419T220154
CREATED:20250724T141229Z
LAST-MODIFIED:20250724T141229Z
UID:1089-1750982400-1751068799@saxophone.bg
SUMMARY:ВИ ФИ ЕС ЧАРТЪРИНГ - Частно парти
DESCRIPTION:
URL:https://saxophone.bg/event/%d0%b2%d0%b8-%d1%84%d0%b8-%d0%b5%d1%81-%d1%87%d0%b0%d1%80%d1%82%d1%8a%d1%80%d0%b8%d0%bd%d0%b3-%d1%87%d0%b0%d1%81%d1%82%d0%bd%d0%be-%d0%bf%d0%b0%d1%80%d1%82%d0%b8/
END:VEVENT
BEGIN:VEVENT
DTSTART;VALUE=DATE:20250627
DTEND;VALUE=DATE:20250628
DTSTAMP:20260419T220154
CREATED:20250724T141019Z
LAST-MODIFIED:20250724T141019Z
UID:1087-1750982400-1751068799@saxophone.bg
SUMMARY:Ключето до морето - Sax night
DESCRIPTION:Саксофон | Музика на живо | Уелкъм дринк | Събития | Сватби
URL:https://saxophone.bg/event/%d0%ba%d0%bb%d1%8e%d1%87%d0%b5%d1%82%d0%be-%d0%b4%d0%be-%d0%bc%d0%be%d1%80%d0%b5%d1%82%d0%be-sax-night-3/
END:VEVENT
BEGIN:VEVENT
DTSTART;VALUE=DATE:20250626
DTEND;VALUE=DATE:20250627
DTSTAMP:20260419T220154
CREATED:20250724T140837Z
LAST-MODIFIED:20250724T140837Z
UID:1084-1750896000-1750982399@saxophone.bg
SUMMARY:Хотел Грифид Метропол\, Златни пясъци
DESCRIPTION:Саксофон | Музика на живо | Уелкъм дринк | Събития | Сватби
URL:https://saxophone.bg/event/%d1%85%d0%be%d1%82%d0%b5%d0%bb-%d0%b3%d1%80%d0%b8%d1%84%d0%b8%d0%b4-%d0%bc%d0%b5%d1%82%d1%80%d0%be%d0%bf%d0%be%d0%bb-%d0%b7%d0%bb%d0%b0%d1%82%d0%bd%d0%b8-%d0%bf%d1%8f%d1%81%d1%8a%d1%86%d0%b8/
END:VEVENT
BEGIN:VEVENT
DTSTART;VALUE=DATE:20250626
DTEND;VALUE=DATE:20250627
DTSTAMP:20260419T220154
CREATED:20250724T140552Z
LAST-MODIFIED:20250724T140552Z
UID:1082-1750896000-1750982399@saxophone.bg
SUMMARY:Хотел Meliá Grand Hermitage - к.к. Златни Пясъци
DESCRIPTION:Саксофон | Музика на живо | Уелкъм дринк | Събития | Сватби
URL:https://saxophone.bg/event/%d1%85%d0%be%d1%82%d0%b5%d0%bb-melia-grand-hermitage-%d0%ba-%d0%ba-%d0%b7%d0%bb%d0%b0%d1%82%d0%bd%d0%b8-%d0%bf%d1%8f%d1%81%d1%8a%d1%86%d0%b8-4/
END:VEVENT
BEGIN:VEVENT
DTSTART;VALUE=DATE:20250624
DTEND;VALUE=DATE:20250625
DTSTAMP:20260419T220154
CREATED:20250724T140431Z
LAST-MODIFIED:20250724T140431Z
UID:1080-1750723200-1750809599@saxophone.bg
SUMMARY:Хотел ГРИФИД НОА\, Златни пясъци\, България SAX Live
DESCRIPTION:Саксофон | Музика на живо | Уелкъм дринк | Събития | Сватби
URL:https://saxophone.bg/event/%d1%85%d0%be%d1%82%d0%b5%d0%bb-%d0%b3%d1%80%d0%b8%d1%84%d0%b8%d0%b4-%d0%bd%d0%be%d0%b0-%d0%b7%d0%bb%d0%b0%d1%82%d0%bd%d0%b8-%d0%bf%d1%8f%d1%81%d1%8a%d1%86%d0%b8-%d0%b1%d1%8a%d0%bb%d0%b3%d0%b0%d1%80-10/
END:VEVENT
BEGIN:VEVENT
DTSTART;VALUE=DATE:20250623
DTEND;VALUE=DATE:20250624
DTSTAMP:20260419T220154
CREATED:20250724T140310Z
LAST-MODIFIED:20250724T140310Z
UID:1078-1750636800-1750723199@saxophone.bg
SUMMARY:Хотел Meliá Grand Hermitage - к.к. Златни Пясъци
DESCRIPTION:Саксофон | Музика на живо | Уелкъм дринк | Събития | Сватби
URL:https://saxophone.bg/event/%d1%85%d0%be%d1%82%d0%b5%d0%bb-melia-grand-hermitage-%d0%ba-%d0%ba-%d0%b7%d0%bb%d0%b0%d1%82%d0%bd%d0%b8-%d0%bf%d1%8f%d1%81%d1%8a%d1%86%d0%b8-3/
END:VEVENT
BEGIN:VEVENT
DTSTART;VALUE=DATE:20250622
DTEND;VALUE=DATE:20250623
DTSTAMP:20260419T220154
CREATED:20250724T140115Z
LAST-MODIFIED:20250724T140115Z
UID:1076-1750550400-1750636799@saxophone.bg
SUMMARY:Ресторант Гребеца - Пловдив
DESCRIPTION:
URL:https://saxophone.bg/event/%d1%80%d0%b5%d1%81%d1%82%d0%be%d1%80%d0%b0%d0%bd%d1%82-%d0%b3%d1%80%d0%b5%d0%b1%d0%b5%d1%86%d0%b0-%d0%bf%d0%bb%d0%be%d0%b2%d0%b4%d0%b8%d0%b2/
END:VEVENT
END:VCALENDAR