BEGIN:VCALENDAR
VERSION:2.0
PRODID:-//www.saxophone.bg - ECPv6.15.11//NONSGML v1.0//EN
CALSCALE:GREGORIAN
METHOD:PUBLISH
X-WR-CALNAME:www.saxophone.bg
X-ORIGINAL-URL:https://saxophone.bg
X-WR-CALDESC:Събития за www.saxophone.bg
REFRESH-INTERVAL;VALUE=DURATION:PT1H
X-Robots-Tag:noindex
X-PUBLISHED-TTL:PT1H
BEGIN:VTIMEZONE
TZID:Europe/Helsinki
BEGIN:DAYLIGHT
TZOFFSETFROM:+0200
TZOFFSETTO:+0300
TZNAME:EEST
DTSTART:20230326T010000
END:DAYLIGHT
BEGIN:STANDARD
TZOFFSETFROM:+0300
TZOFFSETTO:+0200
TZNAME:EET
DTSTART:20231029T010000
END:STANDARD
BEGIN:DAYLIGHT
TZOFFSETFROM:+0200
TZOFFSETTO:+0300
TZNAME:EEST
DTSTART:20240331T010000
END:DAYLIGHT
BEGIN:STANDARD
TZOFFSETFROM:+0300
TZOFFSETTO:+0200
TZNAME:EET
DTSTART:20241027T010000
END:STANDARD
BEGIN:DAYLIGHT
TZOFFSETFROM:+0200
TZOFFSETTO:+0300
TZNAME:EEST
DTSTART:20250330T010000
END:DAYLIGHT
BEGIN:STANDARD
TZOFFSETFROM:+0300
TZOFFSETTO:+0200
TZNAME:EET
DTSTART:20251026T010000
END:STANDARD
END:VTIMEZONE
BEGIN:VEVENT
DTSTART;VALUE=DATE:20240919
DTEND;VALUE=DATE:20240920
DTSTAMP:20260420T072355
CREATED:20241003T133339Z
LAST-MODIFIED:20241003T133339Z
UID:951-1726704000-1726790399@saxophone.bg
SUMMARY:Хотел ГРИФИД НОА\, Златни пясъци\, България SAX Live
DESCRIPTION:Саксофон | Музика на живо | Уелкъм дринк | Събития | Сватби
URL:https://saxophone.bg/event/%d1%85%d0%be%d1%82%d0%b5%d0%bb-%d0%b3%d1%80%d0%b8%d1%84%d0%b8%d0%b4-%d0%bd%d0%be%d0%b0-%d0%b7%d0%bb%d0%b0%d1%82%d0%bd%d0%b8-%d0%bf%d1%8f%d1%81%d1%8a%d1%86%d0%b8-%d0%b1%d1%8a%d0%bb%d0%b3%d0%b0%d1%80-8/
END:VEVENT
BEGIN:VEVENT
DTSTART;VALUE=DATE:20240918
DTEND;VALUE=DATE:20240919
DTSTAMP:20260420T072355
CREATED:20241003T133028Z
LAST-MODIFIED:20241003T133028Z
UID:948-1726617600-1726703999@saxophone.bg
SUMMARY:Melia Grand Hermitage - Частно парти - Sax Live
DESCRIPTION:Саксофон | Музика на живо | Уелкъм дринк | Събития | Сватби
URL:https://saxophone.bg/event/melia-grand-hermitage-%d1%87%d0%b0%d1%81%d1%82%d0%bd%d0%be-%d0%bf%d0%b0%d1%80%d1%82%d0%b8-sax-live/
END:VEVENT
BEGIN:VEVENT
DTSTART;VALUE=DATE:20240917
DTEND;VALUE=DATE:20240918
DTSTAMP:20260420T072355
CREATED:20241003T132524Z
LAST-MODIFIED:20241003T132732Z
UID:946-1726531200-1726617599@saxophone.bg
SUMMARY:Интернационал Хотел Казино и Тауър Суитс\, Златни пясъци\, SAX NIGHT
DESCRIPTION:Саксофон | Музика на живо | Уелкъм дринк | Събития | Сватби
URL:https://saxophone.bg/event/%d0%b8%d0%bd%d1%82%d0%b5%d1%80%d0%bd%d0%b0%d1%86%d0%b8%d0%be%d0%bd%d0%b0%d0%bb-%d1%85%d0%be%d1%82%d0%b5%d0%bb-%d0%ba%d0%b0%d0%b7%d0%b8%d0%bd%d0%be-%d0%b8-%d1%82%d0%b0%d1%83%d1%8a%d1%80-%d1%81%d1%83-15/
END:VEVENT
BEGIN:VEVENT
DTSTART;VALUE=DATE:20240916
DTEND;VALUE=DATE:20240917
DTSTAMP:20260420T072355
CREATED:20241003T132320Z
LAST-MODIFIED:20241003T132320Z
UID:944-1726444800-1726531199@saxophone.bg
SUMMARY:Хотел ГРИФИД НОА\, Златни пясъци\, България
DESCRIPTION:Саксофон | Музика на живо | Уелкъм дринк | Събития | Сватби
URL:https://saxophone.bg/event/%d1%85%d0%be%d1%82%d0%b5%d0%bb-%d0%b3%d1%80%d0%b8%d1%84%d0%b8%d0%b4-%d0%bd%d0%be%d0%b0-%d0%b7%d0%bb%d0%b0%d1%82%d0%bd%d0%b8-%d0%bf%d1%8f%d1%81%d1%8a%d1%86%d0%b8-%d0%b1%d1%8a%d0%bb%d0%b3%d0%b0%d1%80-7/
END:VEVENT
BEGIN:VEVENT
DTSTART;VALUE=DATE:20240914
DTEND;VALUE=DATE:20240915
DTSTAMP:20260420T072355
CREATED:20241003T131849Z
LAST-MODIFIED:20241003T131849Z
UID:941-1726272000-1726358399@saxophone.bg
SUMMARY:Голф клуб "Св. София" - Wedding party - Sax live
DESCRIPTION:Саксофон | Музика на живо | Уелкъм дринк | Събития | Сватби
URL:https://saxophone.bg/event/%d0%b3%d0%be%d0%bb%d1%84-%d0%ba%d0%bb%d1%83%d0%b1-%d1%81%d0%b2-%d1%81%d0%be%d1%84%d0%b8%d1%8f-wedding-party-sax-live/
END:VEVENT
BEGIN:VEVENT
DTSTART;VALUE=DATE:20240910
DTEND;VALUE=DATE:20240911
DTSTAMP:20260420T072355
CREATED:20241003T131105Z
LAST-MODIFIED:20241003T132643Z
UID:939-1725926400-1726012799@saxophone.bg
SUMMARY:Интернационал Хотел Казино и Тауър Суитс\, Златни пясъци\, SAX NIGHT
DESCRIPTION:Саксофон | Музика на живо | Уелкъм дринк | Събития | Сватби
URL:https://saxophone.bg/event/%d0%b8%d0%bd%d1%82%d0%b5%d1%80%d0%bd%d0%b0%d1%86%d0%b8%d0%be%d0%bd%d0%b0%d0%bb-%d1%85%d0%be%d1%82%d0%b5%d0%bb-%d0%ba%d0%b0%d0%b7%d0%b8%d0%bd%d0%be-%d0%b8-%d1%82%d0%b0%d1%83%d1%8a%d1%80-%d1%81%d1%83-14/
END:VEVENT
BEGIN:VEVENT
DTSTART;VALUE=DATE:20240908
DTEND;VALUE=DATE:20240909
DTSTAMP:20260420T072355
CREATED:20241003T130831Z
LAST-MODIFIED:20241003T130831Z
UID:936-1725753600-1725839999@saxophone.bg
SUMMARY:Комплекс Garden Weddings - Wedding party - Sax live
DESCRIPTION:Саксофон | Музика на живо | Уелкъм дринк | Събития | Сватби
URL:https://saxophone.bg/event/%d0%ba%d0%be%d0%bc%d0%bf%d0%bb%d0%b5%d0%ba%d1%81-garden-weddings-wedding-party-sax-live/
END:VEVENT
BEGIN:VEVENT
DTSTART;VALUE=DATE:20240906
DTEND;VALUE=DATE:20240907
DTSTAMP:20260420T072355
CREATED:20241003T130421Z
LAST-MODIFIED:20241003T130421Z
UID:934-1725580800-1725667199@saxophone.bg
SUMMARY:See Me Beach - Wedding party - Sax live
DESCRIPTION:Саксофон | Музика на живо | Уелкъм дринк | Събития | Сватби
URL:https://saxophone.bg/event/see-me-beach-wedding-party-sax-live-2/
END:VEVENT
BEGIN:VEVENT
DTSTART;VALUE=DATE:20240903
DTEND;VALUE=DATE:20240904
DTSTAMP:20260420T072355
CREATED:20241003T130225Z
LAST-MODIFIED:20241003T130225Z
UID:930-1725321600-1725407999@saxophone.bg
SUMMARY:Интернационал Хотел Казино и Тауър Суитс\, Златни пясъци\, SAX NIGHT
DESCRIPTION:Саксофон | Музика на живо | Уелкъм дринк | Събития | Сватби
URL:https://saxophone.bg/event/%d0%b8%d0%bd%d1%82%d0%b5%d1%80%d0%bd%d0%b0%d1%86%d0%b8%d0%be%d0%bd%d0%b0%d0%bb-%d1%85%d0%be%d1%82%d0%b5%d0%bb-%d0%ba%d0%b0%d0%b7%d0%b8%d0%bd%d0%be-%d0%b8-%d1%82%d0%b0%d1%83%d1%8a%d1%80-%d1%81%d1%83-13/
END:VEVENT
BEGIN:VEVENT
DTSTART;VALUE=DATE:20240902
DTEND;VALUE=DATE:20240903
DTSTAMP:20260420T072355
CREATED:20241003T130017Z
LAST-MODIFIED:20241003T130017Z
UID:928-1725235200-1725321599@saxophone.bg
SUMMARY:Хотел ГРИФИД НОА\, Златни пясъци\, България
DESCRIPTION:Саксофон | Музика на живо | Уелкъм дринк | Събития | Сватби
URL:https://saxophone.bg/event/%d1%85%d0%be%d1%82%d0%b5%d0%bb-%d0%b3%d1%80%d0%b8%d1%84%d0%b8%d0%b4-%d0%bd%d0%be%d0%b0-%d0%b7%d0%bb%d0%b0%d1%82%d0%bd%d0%b8-%d0%bf%d1%8f%d1%81%d1%8a%d1%86%d0%b8-%d0%b1%d1%8a%d0%bb%d0%b3%d0%b0%d1%80-6/
END:VEVENT
BEGIN:VEVENT
DTSTART;VALUE=DATE:20240901
DTEND;VALUE=DATE:20240902
DTSTAMP:20260420T072355
CREATED:20240802T125724Z
LAST-MODIFIED:20240802T125724Z
UID:916-1725148800-1725235199@saxophone.bg
SUMMARY:See Me Beach - Wedding party - Sax live
DESCRIPTION:Саксофон | Музика на живо | Уелкъм дринк | Събития | Сватби
URL:https://saxophone.bg/event/see-me-beach-wedding-party-sax-live/
END:VEVENT
BEGIN:VEVENT
DTSTART;VALUE=DATE:20240831
DTEND;VALUE=DATE:20240901
DTSTAMP:20260420T072355
CREATED:20240802T125500Z
LAST-MODIFIED:20240802T125500Z
UID:913-1725062400-1725148799@saxophone.bg
SUMMARY:Horizont Club Varna - Wedding Party
DESCRIPTION:Саксофон | Музика на живо | Уелкъм дринк | Събития | Сватби
URL:https://saxophone.bg/event/horizont-club-varna-wedding-party/
END:VEVENT
BEGIN:VEVENT
DTSTART;VALUE=DATE:20240830
DTEND;VALUE=DATE:20240831
DTSTAMP:20260420T072355
CREATED:20240802T125230Z
LAST-MODIFIED:20240802T125230Z
UID:911-1724976000-1725062399@saxophone.bg
SUMMARY:Ключето до морето - Sax night
DESCRIPTION:Саксофон | Музика на живо | Уелкъм дринк | Събития | Сватби
URL:https://saxophone.bg/event/%d0%ba%d0%bb%d1%8e%d1%87%d0%b5%d1%82%d0%be-%d0%b4%d0%be-%d0%bc%d0%be%d1%80%d0%b5%d1%82%d0%be-sax-night-2/
END:VEVENT
BEGIN:VEVENT
DTSTART;VALUE=DATE:20240827
DTEND;VALUE=DATE:20240828
DTSTAMP:20260420T072355
CREATED:20240802T124702Z
LAST-MODIFIED:20240802T124925Z
UID:908-1724716800-1724803199@saxophone.bg
SUMMARY:Интернационал Хотел Казино и Тауър Суитс\, Златни пясъци\, Sax Night
DESCRIPTION:Саксофон | Музика на живо | Уелкъм дринк | Събития | Сватби
URL:https://saxophone.bg/event/%d0%b8%d0%bd%d1%82%d0%b5%d1%80%d0%bd%d0%b0%d1%86%d0%b8%d0%be%d0%bd%d0%b0%d0%bb-%d1%85%d0%be%d1%82%d0%b5%d0%bb-%d0%ba%d0%b0%d0%b7%d0%b8%d0%bd%d0%be-%d0%b8-%d1%82%d0%b0%d1%83%d1%8a%d1%80-%d1%81%d1%83-12/
END:VEVENT
BEGIN:VEVENT
DTSTART;VALUE=DATE:20240824
DTEND;VALUE=DATE:20240825
DTSTAMP:20260420T072355
CREATED:20240802T124427Z
LAST-MODIFIED:20240802T124427Z
UID:906-1724457600-1724543999@saxophone.bg
SUMMARY:Hotel Casa di Fiore\, Kranevo - Sax Night
DESCRIPTION:Саксофон | Музика на живо | Уелкъм дринк | Събития | Сватби
URL:https://saxophone.bg/event/hotel-casa-di-fiore-kranevo-sax-night/
END:VEVENT
BEGIN:VEVENT
DTSTART;VALUE=DATE:20240823
DTEND;VALUE=DATE:20240824
DTSTAMP:20260420T072355
CREATED:20240802T124202Z
LAST-MODIFIED:20240802T124202Z
UID:902-1724371200-1724457599@saxophone.bg
SUMMARY:Ключето до морето - Sax night
DESCRIPTION:Саксофон | Музика на живо | Уелкъм дринк | Събития | Сватби
URL:https://saxophone.bg/event/%d0%ba%d0%bb%d1%8e%d1%87%d0%b5%d1%82%d0%be-%d0%b4%d0%be-%d0%bc%d0%be%d1%80%d0%b5%d1%82%d0%be-sax-night/
END:VEVENT
BEGIN:VEVENT
DTSTART;VALUE=DATE:20240820
DTEND;VALUE=DATE:20240821
DTSTAMP:20260420T072355
CREATED:20240802T123707Z
LAST-MODIFIED:20240802T123707Z
UID:900-1724112000-1724198399@saxophone.bg
SUMMARY:Интернационал Хотел Казино и Тауър Суитс\, Златни пясъци\, SAX NIGHT
DESCRIPTION:Саксофон | Музика на живо | Уелкъм дринк | Събития | Сватби
URL:https://saxophone.bg/event/%d0%b8%d0%bd%d1%82%d0%b5%d1%80%d0%bd%d0%b0%d1%86%d0%b8%d0%be%d0%bd%d0%b0%d0%bb-%d1%85%d0%be%d1%82%d0%b5%d0%bb-%d0%ba%d0%b0%d0%b7%d0%b8%d0%bd%d0%be-%d0%b8-%d1%82%d0%b0%d1%83%d1%8a%d1%80-%d1%81%d1%83-11/
END:VEVENT
BEGIN:VEVENT
DTSTART;VALUE=DATE:20240819
DTEND;VALUE=DATE:20240820
DTSTAMP:20260420T072355
CREATED:20240819T081304Z
LAST-MODIFIED:20240819T081304Z
UID:922-1724025600-1724111999@saxophone.bg
SUMMARY:Хотел ГРИФИД НОА\, Златни пясъци\, България
DESCRIPTION:Саксофон | Музика на живо | Уелкъм дринк | Събития | Сватби
URL:https://saxophone.bg/event/%d1%85%d0%be%d1%82%d0%b5%d0%bb-%d0%b3%d1%80%d0%b8%d1%84%d0%b8%d0%b4-%d0%bd%d0%be%d0%b0-%d0%b7%d0%bb%d0%b0%d1%82%d0%bd%d0%b8-%d0%bf%d1%8f%d1%81%d1%8a%d1%86%d0%b8-%d0%b1%d1%8a%d0%bb%d0%b3%d0%b0%d1%80-5/
END:VEVENT
BEGIN:VEVENT
DTSTART;VALUE=DATE:20240817
DTEND;VALUE=DATE:20240818
DTSTAMP:20260420T072355
CREATED:20240802T123235Z
LAST-MODIFIED:20240802T123235Z
UID:897-1723852800-1723939199@saxophone.bg
SUMMARY:Рая Гардън - Велико Търново - Сватбено Парти
DESCRIPTION:Саксофон | Музика на живо | Уелкъм дринк | Събития | Сватби
URL:https://saxophone.bg/event/%d1%80%d0%b0%d1%8f-%d0%b3%d0%b0%d1%80%d0%b4%d1%8a%d0%bd-%d0%b2%d0%b5%d0%bb%d0%b8%d0%ba%d0%be-%d1%82%d1%8a%d1%80%d0%bd%d0%be%d0%b2%d0%be-%d1%81%d0%b2%d0%b0%d1%82%d0%b1%d0%b5%d0%bd%d0%be-%d0%bf/
END:VEVENT
BEGIN:VEVENT
DTSTART;VALUE=DATE:20240814
DTEND;VALUE=DATE:20240815
DTSTAMP:20260420T072355
CREATED:20240819T081019Z
LAST-MODIFIED:20240819T081019Z
UID:920-1723593600-1723679999@saxophone.bg
SUMMARY:Хотел ГРИФИД НОА\, Златни пясъци\, България
DESCRIPTION:Саксофон | Музика на живо | Уелкъм дринк | Събития | Сватби
URL:https://saxophone.bg/event/%d1%85%d0%be%d1%82%d0%b5%d0%bb-%d0%b3%d1%80%d0%b8%d1%84%d0%b8%d0%b4-%d0%bd%d0%be%d0%b0-%d0%b7%d0%bb%d0%b0%d1%82%d0%bd%d0%b8-%d0%bf%d1%8f%d1%81%d1%8a%d1%86%d0%b8-%d0%b1%d1%8a%d0%bb%d0%b3%d0%b0%d1%80-4/
END:VEVENT
BEGIN:VEVENT
DTSTART;VALUE=DATE:20240813
DTEND;VALUE=DATE:20240814
DTSTAMP:20260420T072355
CREATED:20240802T122309Z
LAST-MODIFIED:20240802T122309Z
UID:895-1723507200-1723593599@saxophone.bg
SUMMARY:Интернационал Хотел Казино и Тауър Суитс\, Златни пясъци\, Sax night
DESCRIPTION:Саксофон | Музика на живо | Уелкъм дринк | Събития | Сватб
URL:https://saxophone.bg/event/%d0%b8%d0%bd%d1%82%d0%b5%d1%80%d0%bd%d0%b0%d1%86%d0%b8%d0%be%d0%bd%d0%b0%d0%bb-%d1%85%d0%be%d1%82%d0%b5%d0%bb-%d0%ba%d0%b0%d0%b7%d0%b8%d0%bd%d0%be-%d0%b8-%d1%82%d0%b0%d1%83%d1%8a%d1%80-%d1%81%d1%83-10/
END:VEVENT
BEGIN:VEVENT
DTSTART;VALUE=DATE:20240810
DTEND;VALUE=DATE:20240811
DTSTAMP:20260420T072355
CREATED:20240802T121719Z
LAST-MODIFIED:20240802T121719Z
UID:892-1723248000-1723334399@saxophone.bg
SUMMARY:Ключето до морето - Sax & Vocal night
DESCRIPTION:Саксофон | Музика на живо | Уелкъм дринк | Събития | Сватби
URL:https://saxophone.bg/event/%d0%ba%d0%bb%d1%8e%d1%87%d0%b5%d1%82%d0%be-%d0%b4%d0%be-%d0%bc%d0%be%d1%80%d0%b5%d1%82%d0%be-sax-vocal-night/
END:VEVENT
BEGIN:VEVENT
DTSTART;VALUE=DATE:20240810
DTEND;VALUE=DATE:20240811
DTSTAMP:20260420T072355
CREATED:20240802T121042Z
LAST-MODIFIED:20240802T121042Z
UID:890-1723248000-1723334399@saxophone.bg
SUMMARY:FIRST LINE Restaurant & Bar\, Кранево - Wedding party
DESCRIPTION:Саксофон | Музика на живо | Уелкъм дринк | Събития | Сватби
URL:https://saxophone.bg/event/first-line-restaurant-bar-%d0%ba%d1%80%d0%b0%d0%bd%d0%b5%d0%b2%d0%be-wedding-party/
END:VEVENT
BEGIN:VEVENT
DTSTART;VALUE=DATE:20240809
DTEND;VALUE=DATE:20240810
DTSTAMP:20260420T072355
CREATED:20240802T120834Z
LAST-MODIFIED:20240802T120834Z
UID:888-1723161600-1723247999@saxophone.bg
SUMMARY:BlackSeaRama - Wedding Party
DESCRIPTION:Саксофон | Музика на живо | Уелкъм дринк | Събития | Сватби
URL:https://saxophone.bg/event/blacksearama-wedding-party/
END:VEVENT
BEGIN:VEVENT
DTSTART;VALUE=DATE:20240808
DTEND;VALUE=DATE:20240809
DTSTAMP:20260420T072355
CREATED:20240802T120646Z
LAST-MODIFIED:20240802T120646Z
UID:885-1723075200-1723161599@saxophone.bg
SUMMARY:BlackSeaRama - Private Party
DESCRIPTION:Саксофон | Музика на живо | Уелкъм дринк | Събития | Сватби
URL:https://saxophone.bg/event/blacksearama-private-party/
END:VEVENT
BEGIN:VEVENT
DTSTART;VALUE=DATE:20240806
DTEND;VALUE=DATE:20240807
DTSTAMP:20260420T072355
CREATED:20240802T115901Z
LAST-MODIFIED:20240802T115944Z
UID:883-1722902400-1722988799@saxophone.bg
SUMMARY:Хотел ГРИФИД НОА\, Златни пясъци\, България
DESCRIPTION:Саксофон | Музика на живо | Уелкъм дринк | Събития | Сватби
URL:https://saxophone.bg/event/%d1%85%d0%be%d1%82%d0%b5%d0%bb-%d0%b3%d1%80%d0%b8%d1%84%d0%b8%d0%b4-%d0%bd%d0%be%d0%b0-%d0%b7%d0%bb%d0%b0%d1%82%d0%bd%d0%b8-%d0%bf%d1%8f%d1%81%d1%8a%d1%86%d0%b8-%d0%b1%d1%8a%d0%bb%d0%b3%d0%b0%d1%80-3/
END:VEVENT
BEGIN:VEVENT
DTSTART;VALUE=DATE:20240806
DTEND;VALUE=DATE:20240807
DTSTAMP:20260420T072355
CREATED:20240802T115638Z
LAST-MODIFIED:20240802T115638Z
UID:881-1722902400-1722988799@saxophone.bg
SUMMARY:Интернационал Хотел Казино и Тауър Суитс\, Златни пясъци\, България
DESCRIPTION:Саксофон | Музика на живо | Уелкъм дринк | Събития | Сватби
URL:https://saxophone.bg/event/%d0%b8%d0%bd%d1%82%d0%b5%d1%80%d0%bd%d0%b0%d1%86%d0%b8%d0%be%d0%bd%d0%b0%d0%bb-%d1%85%d0%be%d1%82%d0%b5%d0%bb-%d0%ba%d0%b0%d0%b7%d0%b8%d0%bd%d0%be-%d0%b8-%d1%82%d0%b0%d1%83%d1%8a%d1%80-%d1%81%d1%83-9/
END:VEVENT
BEGIN:VEVENT
DTSTART;VALUE=DATE:20240802
DTEND;VALUE=DATE:20240803
DTSTAMP:20260420T072355
CREATED:20240802T101855Z
LAST-MODIFIED:20240802T101855Z
UID:878-1722556800-1722643199@saxophone.bg
SUMMARY:Ателие 60 - Варна
DESCRIPTION:Саксофон | Музика на живо | Уелкъм дринк | Събития | Сватби
URL:https://saxophone.bg/event/%d0%b0%d1%82%d0%b5%d0%bb%d0%b8%d0%b5-60-%d0%b2%d0%b0%d1%80%d0%bd%d0%b0/
END:VEVENT
BEGIN:VEVENT
DTSTART;VALUE=DATE:20240801
DTEND;VALUE=DATE:20240802
DTSTAMP:20260420T072355
CREATED:20240802T101507Z
LAST-MODIFIED:20240802T101507Z
UID:876-1722470400-1722556799@saxophone.bg
SUMMARY:Хотел ГРИФИД НОА\, Златни пясъци\, България
DESCRIPTION:Саксофон | Музика на живо | Уелкъм дринк | Събития | Сватби
URL:https://saxophone.bg/event/%d1%85%d0%be%d1%82%d0%b5%d0%bb-%d0%b3%d1%80%d0%b8%d1%84%d0%b8%d0%b4-%d0%bd%d0%be%d0%b0-%d0%b7%d0%bb%d0%b0%d1%82%d0%bd%d0%b8-%d0%bf%d1%8f%d1%81%d1%8a%d1%86%d0%b8-%d0%b1%d1%8a%d0%bb%d0%b3%d0%b0%d1%80-2/
END:VEVENT
BEGIN:VEVENT
DTSTART;VALUE=DATE:20240730
DTEND;VALUE=DATE:20240731
DTSTAMP:20260420T072355
CREATED:20240802T100851Z
LAST-MODIFIED:20240802T100851Z
UID:870-1722297600-1722383999@saxophone.bg
SUMMARY:Интернационал Хотел Казино и Тауър Суитс\, Златни пясъци\, България
DESCRIPTION:Саксофон | Музика на живо | Уелкъм дринк | Събития | Сватби
URL:https://saxophone.bg/event/%d0%b8%d0%bd%d1%82%d0%b5%d1%80%d0%bd%d0%b0%d1%86%d0%b8%d0%be%d0%bd%d0%b0%d0%bb-%d1%85%d0%be%d1%82%d0%b5%d0%bb-%d0%ba%d0%b0%d0%b7%d0%b8%d0%bd%d0%be-%d0%b8-%d1%82%d0%b0%d1%83%d1%8a%d1%80-%d1%81%d1%83-8/
END:VEVENT
END:VCALENDAR