BEGIN:VCALENDAR
VERSION:2.0
PRODID:-//www.saxophone.bg - ECPv6.15.11//NONSGML v1.0//EN
CALSCALE:GREGORIAN
METHOD:PUBLISH
X-ORIGINAL-URL:https://saxophone.bg
X-WR-CALDESC:Събития за www.saxophone.bg
REFRESH-INTERVAL;VALUE=DURATION:PT1H
X-Robots-Tag:noindex
X-PUBLISHED-TTL:PT1H
BEGIN:VTIMEZONE
TZID:Europe/Helsinki
BEGIN:DAYLIGHT
TZOFFSETFROM:+0200
TZOFFSETTO:+0300
TZNAME:EEST
DTSTART:20240331T010000
END:DAYLIGHT
BEGIN:STANDARD
TZOFFSETFROM:+0300
TZOFFSETTO:+0200
TZNAME:EET
DTSTART:20241027T010000
END:STANDARD
BEGIN:DAYLIGHT
TZOFFSETFROM:+0200
TZOFFSETTO:+0300
TZNAME:EEST
DTSTART:20250330T010000
END:DAYLIGHT
BEGIN:STANDARD
TZOFFSETFROM:+0300
TZOFFSETTO:+0200
TZNAME:EET
DTSTART:20251026T010000
END:STANDARD
BEGIN:DAYLIGHT
TZOFFSETFROM:+0200
TZOFFSETTO:+0300
TZNAME:EEST
DTSTART:20260329T010000
END:DAYLIGHT
BEGIN:STANDARD
TZOFFSETFROM:+0300
TZOFFSETTO:+0200
TZNAME:EET
DTSTART:20261025T010000
END:STANDARD
END:VTIMEZONE
BEGIN:VEVENT
DTSTART;VALUE=DATE:20250830
DTEND;VALUE=DATE:20250831
DTSTAMP:20260419T160230
CREATED:20250725T092735Z
LAST-MODIFIED:20250725T092735Z
UID:1237-1756512000-1756598399@saxophone.bg
SUMMARY:Къмпинг и вилно селище Лагуна Златни пясъци
DESCRIPTION:
URL:https://saxophone.bg/event/%d0%ba%d1%8a%d0%bc%d0%bf%d0%b8%d0%bd%d0%b3-%d0%b8-%d0%b2%d0%b8%d0%bb%d0%bd%d0%be-%d1%81%d0%b5%d0%bb%d0%b8%d1%89%d0%b5-%d0%bb%d0%b0%d0%b3%d1%83%d0%bd%d0%b0-%d0%b7%d0%bb%d0%b0%d1%82%d0%bd%d0%b8-%d0%bf/
END:VEVENT
BEGIN:VEVENT
DTSTART;VALUE=DATE:20250828
DTEND;VALUE=DATE:20250829
DTSTAMP:20260419T160230
CREATED:20250724T144919Z
LAST-MODIFIED:20250724T144919Z
UID:1150-1756339200-1756425599@saxophone.bg
SUMMARY:Хотел Meliá Grand Hermitage - к.к. Златни Пясъци
DESCRIPTION:Саксофон | Музика на живо | Уелкъм дринк | Събития | Сватби
URL:https://saxophone.bg/event/%d1%85%d0%be%d1%82%d0%b5%d0%bb-melia-grand-hermitage-%d0%ba-%d0%ba-%d0%b7%d0%bb%d0%b0%d1%82%d0%bd%d0%b8-%d0%bf%d1%8f%d1%81%d1%8a%d1%86%d0%b8-22/
END:VEVENT
BEGIN:VEVENT
DTSTART;VALUE=DATE:20250827
DTEND;VALUE=DATE:20250828
DTSTAMP:20260419T160230
CREATED:20250725T090807Z
LAST-MODIFIED:20250725T090807Z
UID:1225-1756252800-1756339199@saxophone.bg
SUMMARY:The Palace Hotel - Sunny Day - Saints Constantine and Helena
DESCRIPTION:Саксофон | Музика на живо | Уелкъм дринк | Събития | Сватби
URL:https://saxophone.bg/event/the-palace-hotel-sunny-day-saints-constantine-and-helena-4/
END:VEVENT
BEGIN:VEVENT
DTSTART;VALUE=DATE:20250826
DTEND;VALUE=DATE:20250827
DTSTAMP:20260419T160230
CREATED:20250724T180431Z
LAST-MODIFIED:20250724T180431Z
UID:1185-1756166400-1756252799@saxophone.bg
SUMMARY:Хотел Грифид Метропол Златни пясъци
DESCRIPTION:Саксофон | Музика на живо | Уелкъм дринк | Събития | Сватби
URL:https://saxophone.bg/event/%d1%85%d0%be%d1%82%d0%b5%d0%bb-%d0%b3%d1%80%d0%b8%d1%84%d0%b8%d0%b4-%d0%bc%d0%b5%d1%82%d1%80%d0%be%d0%bf%d0%be%d0%bb-%d0%b7%d0%bb%d0%b0%d1%82%d0%bd%d0%b8-%d0%bf%d1%8f%d1%81%d1%8a%d1%86%d0%b8-7/
END:VEVENT
BEGIN:VEVENT
DTSTART;VALUE=DATE:20250826
DTEND;VALUE=DATE:20250827
DTSTAMP:20260419T160230
CREATED:20250724T145933Z
LAST-MODIFIED:20250724T145933Z
UID:1169-1756166400-1756252799@saxophone.bg
SUMMARY:Интернационал Хотел Казино и Тауър Суитс Златни пясъци SAX NIGHT
DESCRIPTION:Саксофон | Музика на живо | Уелкъм дринк | Събития | Сватби
URL:https://saxophone.bg/event/%d0%b8%d0%bd%d1%82%d0%b5%d1%80%d0%bd%d0%b0%d1%86%d0%b8%d0%be%d0%bd%d0%b0%d0%bb-%d1%85%d0%be%d1%82%d0%b5%d0%bb-%d0%ba%d0%b0%d0%b7%d0%b8%d0%bd%d0%be-%d0%b8-%d1%82%d0%b0%d1%83%d1%8a%d1%80-%d1%81%d1%83-29/
END:VEVENT
BEGIN:VEVENT
DTSTART;VALUE=DATE:20250826
DTEND;VALUE=DATE:20250827
DTSTAMP:20260419T160230
CREATED:20250724T142608Z
LAST-MODIFIED:20250724T142608Z
UID:1115-1756166400-1756252799@saxophone.bg
SUMMARY:Хотел ГРИФИД НОА Златни пясъци SAX Live
DESCRIPTION:Саксофон | Музика на живо | Уелкъм дринк | Събития | Сватби
URL:https://saxophone.bg/event/%d1%85%d0%be%d1%82%d0%b5%d0%bb-%d0%b3%d1%80%d0%b8%d1%84%d0%b8%d0%b4-%d0%bd%d0%be%d0%b0-%d0%b7%d0%bb%d0%b0%d1%82%d0%bd%d0%b8-%d0%bf%d1%8f%d1%81%d1%8a%d1%86%d0%b8-sax-live-7/
END:VEVENT
BEGIN:VEVENT
DTSTART;VALUE=DATE:20250825
DTEND;VALUE=DATE:20250826
DTSTAMP:20260419T160230
CREATED:20250724T144834Z
LAST-MODIFIED:20250724T144834Z
UID:1148-1756080000-1756166399@saxophone.bg
SUMMARY:Хотел Meliá Grand Hermitage - к.к. Златни Пясъци
DESCRIPTION:Саксофон | Музика на живо | Уелкъм дринк | Събития | Сватби
URL:https://saxophone.bg/event/%d1%85%d0%be%d1%82%d0%b5%d0%bb-melia-grand-hermitage-%d0%ba-%d0%ba-%d0%b7%d0%bb%d0%b0%d1%82%d0%bd%d0%b8-%d0%bf%d1%8f%d1%81%d1%8a%d1%86%d0%b8-21/
END:VEVENT
BEGIN:VEVENT
DTSTART;VALUE=DATE:20250824
DTEND;VALUE=DATE:20250825
DTSTAMP:20260419T160230
CREATED:20250725T092604Z
LAST-MODIFIED:20250725T092604Z
UID:1235-1755993600-1756079999@saxophone.bg
SUMMARY:Комплекс "Омуртагов мост" Велики Преслав - Сватбено парти
DESCRIPTION:
URL:https://saxophone.bg/event/%d0%ba%d0%be%d0%bc%d0%bf%d0%bb%d0%b5%d0%ba%d1%81-%d0%be%d0%bc%d1%83%d1%80%d1%82%d0%b0%d0%b3%d0%be%d0%b2-%d0%bc%d0%be%d1%81%d1%82-%d0%b2%d0%b5%d0%bb%d0%b8%d0%ba%d0%b8-%d0%bf%d1%80%d0%b5%d1%81%d0%bb/
END:VEVENT
BEGIN:VEVENT
DTSTART;VALUE=DATE:20250823
DTEND;VALUE=DATE:20250824
DTSTAMP:20260419T160230
CREATED:20250725T091442Z
LAST-MODIFIED:20250725T091442Z
UID:1227-1755907200-1755993599@saxophone.bg
SUMMARY:Ключето до морето - Sax night
DESCRIPTION:Саксофон | Музика на живо | Уелкъм дринк | Събития | Сватби
URL:https://saxophone.bg/event/%d0%ba%d0%bb%d1%8e%d1%87%d0%b5%d1%82%d0%be-%d0%b4%d0%be-%d0%bc%d0%be%d1%80%d0%b5%d1%82%d0%be-sax-night-9/
END:VEVENT
BEGIN:VEVENT
DTSTART;VALUE=DATE:20250822
DTEND;VALUE=DATE:20250823
DTSTAMP:20260419T160230
CREATED:20250725T092056Z
LAST-MODIFIED:20250725T092056Z
UID:1233-1755820800-1755907199@saxophone.bg
SUMMARY:Hotel Casa di Fiore\, Kranevo - Sax Night
DESCRIPTION:Саксофон | Музика на живо | Уелкъм дринк | Събития | Сватби
URL:https://saxophone.bg/event/hotel-casa-di-fiore-kranevo-sax-night-4/
END:VEVENT
BEGIN:VEVENT
DTSTART;VALUE=DATE:20250821
DTEND;VALUE=DATE:20250822
DTSTAMP:20260419T160230
CREATED:20250724T144748Z
LAST-MODIFIED:20250724T144748Z
UID:1146-1755734400-1755820799@saxophone.bg
SUMMARY:Хотел Meliá Grand Hermitage - к.к. Златни Пясъци
DESCRIPTION:Саксофон | Музика на живо | Уелкъм дринк | Събития | Сватби
URL:https://saxophone.bg/event/%d1%85%d0%be%d1%82%d0%b5%d0%bb-melia-grand-hermitage-%d0%ba-%d0%ba-%d0%b7%d0%bb%d0%b0%d1%82%d0%bd%d0%b8-%d0%bf%d1%8f%d1%81%d1%8a%d1%86%d0%b8-20/
END:VEVENT
BEGIN:VEVENT
DTSTART;VALUE=DATE:20250820
DTEND;VALUE=DATE:20250821
DTSTAMP:20260419T160230
CREATED:20250725T090712Z
LAST-MODIFIED:20250725T090712Z
UID:1223-1755648000-1755734399@saxophone.bg
SUMMARY:The Palace Hotel - Sunny Day - Saints Constantine and Helena
DESCRIPTION:Саксофон | Музика на живо | Уелкъм дринк | Събития | Сватби
URL:https://saxophone.bg/event/the-palace-hotel-sunny-day-saints-constantine-and-helena-3/
END:VEVENT
BEGIN:VEVENT
DTSTART;VALUE=DATE:20250819
DTEND;VALUE=DATE:20250820
DTSTAMP:20260419T160230
CREATED:20250724T145857Z
LAST-MODIFIED:20250724T145857Z
UID:1167-1755561600-1755647999@saxophone.bg
SUMMARY:Интернационал Хотел Казино и Тауър Суитс Златни пясъци SAX NIGHT
DESCRIPTION:Саксофон | Музика на живо | Уелкъм дринк | Събития | Сватби
URL:https://saxophone.bg/event/%d0%b8%d0%bd%d1%82%d0%b5%d1%80%d0%bd%d0%b0%d1%86%d0%b8%d0%be%d0%bd%d0%b0%d0%bb-%d1%85%d0%be%d1%82%d0%b5%d0%bb-%d0%ba%d0%b0%d0%b7%d0%b8%d0%bd%d0%be-%d0%b8-%d1%82%d0%b0%d1%83%d1%8a%d1%80-%d1%81%d1%83-28/
END:VEVENT
BEGIN:VEVENT
DTSTART;VALUE=DATE:20250819
DTEND;VALUE=DATE:20250820
DTSTAMP:20260419T160230
CREATED:20250724T142527Z
LAST-MODIFIED:20250724T142527Z
UID:1113-1755561600-1755647999@saxophone.bg
SUMMARY:Хотел ГРИФИД НОА Златни пясъци SAX Live
DESCRIPTION:Саксофон | Музика на живо | Уелкъм дринк | Събития | Сватби
URL:https://saxophone.bg/event/%d1%85%d0%be%d1%82%d0%b5%d0%bb-%d0%b3%d1%80%d0%b8%d1%84%d0%b8%d0%b4-%d0%bd%d0%be%d0%b0-%d0%b7%d0%bb%d0%b0%d1%82%d0%bd%d0%b8-%d0%bf%d1%8f%d1%81%d1%8a%d1%86%d0%b8-sax-live-6/
END:VEVENT
BEGIN:VEVENT
DTSTART;VALUE=DATE:20250818
DTEND;VALUE=DATE:20250819
DTSTAMP:20260419T160230
CREATED:20250724T144713Z
LAST-MODIFIED:20250724T144713Z
UID:1144-1755475200-1755561599@saxophone.bg
SUMMARY:Хотел Meliá Grand Hermitage - к.к. Златни Пясъци
DESCRIPTION:Саксофон | Музика на живо | Уелкъм дринк | Събития | Сватби
URL:https://saxophone.bg/event/%d1%85%d0%be%d1%82%d0%b5%d0%bb-melia-grand-hermitage-%d0%ba-%d0%ba-%d0%b7%d0%bb%d0%b0%d1%82%d0%bd%d0%b8-%d0%bf%d1%8f%d1%81%d1%8a%d1%86%d0%b8-19/
END:VEVENT
BEGIN:VEVENT
DTSTART;VALUE=DATE:20250816
DTEND;VALUE=DATE:20250817
DTSTAMP:20260419T160230
CREATED:20250725T085757Z
LAST-MODIFIED:20250725T085757Z
UID:1213-1755302400-1755388799@saxophone.bg
SUMMARY:Ключето до морето - Sax night
DESCRIPTION:Саксофон | Музика на живо | Уелкъм дринк | Събития | Сватби
URL:https://saxophone.bg/event/%d0%ba%d0%bb%d1%8e%d1%87%d0%b5%d1%82%d0%be-%d0%b4%d0%be-%d0%bc%d0%be%d1%80%d0%b5%d1%82%d0%be-sax-night-8/
END:VEVENT
BEGIN:VEVENT
DTSTART;VALUE=DATE:20250816
DTEND;VALUE=DATE:20250817
DTSTAMP:20260419T160230
CREATED:20250724T180341Z
LAST-MODIFIED:20250724T180341Z
UID:1183-1755302400-1755388799@saxophone.bg
SUMMARY:Хотел Грифид Метропол Златни пясъци
DESCRIPTION:Саксофон | Музика на живо | Уелкъм дринк | Събития | Сватби
URL:https://saxophone.bg/event/%d1%85%d0%be%d1%82%d0%b5%d0%bb-%d0%b3%d1%80%d0%b8%d1%84%d0%b8%d0%b4-%d0%bc%d0%b5%d1%82%d1%80%d0%be%d0%bf%d0%be%d0%bb-%d0%b7%d0%bb%d0%b0%d1%82%d0%bd%d0%b8-%d0%bf%d1%8f%d1%81%d1%8a%d1%86%d0%b8-6/
END:VEVENT
BEGIN:VEVENT
DTSTART;VALUE=DATE:20250814
DTEND;VALUE=DATE:20250815
DTSTAMP:20260419T160230
CREATED:20250724T144550Z
LAST-MODIFIED:20250724T144550Z
UID:1142-1755129600-1755215999@saxophone.bg
SUMMARY:Хотел Meliá Grand Hermitage - к.к. Златни Пясъци
DESCRIPTION:Саксофон | Музика на живо | Уелкъм дринк | Събития | Сватби
URL:https://saxophone.bg/event/%d1%85%d0%be%d1%82%d0%b5%d0%bb-melia-grand-hermitage-%d0%ba-%d0%ba-%d0%b7%d0%bb%d0%b0%d1%82%d0%bd%d0%b8-%d0%bf%d1%8f%d1%81%d1%8a%d1%86%d0%b8-18/
END:VEVENT
BEGIN:VEVENT
DTSTART;VALUE=DATE:20250813
DTEND;VALUE=DATE:20250814
DTSTAMP:20260419T160230
CREATED:20250725T090621Z
LAST-MODIFIED:20250725T090621Z
UID:1221-1755043200-1755129599@saxophone.bg
SUMMARY:The Palace Hotel - Sunny Day - Saints Constantine and Helena
DESCRIPTION:Саксофон | Музика на живо | Уелкъм дринк | Събития | Сватби
URL:https://saxophone.bg/event/the-palace-hotel-sunny-day-saints-constantine-and-helena-2/
END:VEVENT
BEGIN:VEVENT
DTSTART;VALUE=DATE:20250812
DTEND;VALUE=DATE:20250813
DTSTAMP:20260419T160230
CREATED:20250724T145818Z
LAST-MODIFIED:20250724T145818Z
UID:1165-1754956800-1755043199@saxophone.bg
SUMMARY:Интернационал Хотел Казино и Тауър Суитс Златни пясъци SAX NIGHT
DESCRIPTION:Саксофон | Музика на живо | Уелкъм дринк | Събития | Сватби
URL:https://saxophone.bg/event/%d0%b8%d0%bd%d1%82%d0%b5%d1%80%d0%bd%d0%b0%d1%86%d0%b8%d0%be%d0%bd%d0%b0%d0%bb-%d1%85%d0%be%d1%82%d0%b5%d0%bb-%d0%ba%d0%b0%d0%b7%d0%b8%d0%bd%d0%be-%d0%b8-%d1%82%d0%b0%d1%83%d1%8a%d1%80-%d1%81%d1%83-27/
END:VEVENT
BEGIN:VEVENT
DTSTART;VALUE=DATE:20250812
DTEND;VALUE=DATE:20250813
DTSTAMP:20260419T160230
CREATED:20250724T142451Z
LAST-MODIFIED:20250724T142451Z
UID:1111-1754956800-1755043199@saxophone.bg
SUMMARY:Хотел ГРИФИД НОА Златни пясъци SAX Live
DESCRIPTION:Саксофон | Музика на живо | Уелкъм дринк | Събития | Сватби
URL:https://saxophone.bg/event/%d1%85%d0%be%d1%82%d0%b5%d0%bb-%d0%b3%d1%80%d0%b8%d1%84%d0%b8%d0%b4-%d0%bd%d0%be%d0%b0-%d0%b7%d0%bb%d0%b0%d1%82%d0%bd%d0%b8-%d0%bf%d1%8f%d1%81%d1%8a%d1%86%d0%b8-sax-live-5/
END:VEVENT
BEGIN:VEVENT
DTSTART;VALUE=DATE:20250811
DTEND;VALUE=DATE:20250812
DTSTAMP:20260419T160230
CREATED:20250724T144438Z
LAST-MODIFIED:20250724T144438Z
UID:1140-1754870400-1754956799@saxophone.bg
SUMMARY:Хотел Meliá Grand Hermitage - к.к. Златни Пясъци
DESCRIPTION:Саксофон | Музика на живо | Уелкъм дринк | Събития | Сватби
URL:https://saxophone.bg/event/%d1%85%d0%be%d1%82%d0%b5%d0%bb-melia-grand-hermitage-%d0%ba-%d0%ba-%d0%b7%d0%bb%d0%b0%d1%82%d0%bd%d0%b8-%d0%bf%d1%8f%d1%81%d1%8a%d1%86%d0%b8-17/
END:VEVENT
BEGIN:VEVENT
DTSTART;VALUE=DATE:20250810
DTEND;VALUE=DATE:20250811
DTSTAMP:20260419T160230
CREATED:20250725T091759Z
LAST-MODIFIED:20250725T091759Z
UID:1231-1754784000-1754870399@saxophone.bg
SUMMARY:Бистро "Царичино" с.Царичино - SAX NIGHT
DESCRIPTION:
URL:https://saxophone.bg/event/%d0%b1%d0%b8%d1%81%d1%82%d1%80%d0%be-%d1%86%d0%b0%d1%80%d0%b8%d1%87%d0%b8%d0%bd%d0%be-%d1%81-%d1%86%d0%b0%d1%80%d0%b8%d1%87%d0%b8%d0%bd%d0%be-sax-night/
END:VEVENT
BEGIN:VEVENT
DTSTART;VALUE=DATE:20250809
DTEND;VALUE=DATE:20250810
DTSTAMP:20260419T160230
CREATED:20250725T091655Z
LAST-MODIFIED:20250725T091655Z
UID:1229-1754697600-1754783999@saxophone.bg
SUMMARY:BlackSeaRama - Wedding Party - Sax Live
DESCRIPTION:Саксофон | Музика на живо | Уелкъм дринк | Събития | Сватби
URL:https://saxophone.bg/event/blacksearama-wedding-party-sax-live-4/
END:VEVENT
BEGIN:VEVENT
DTSTART;VALUE=DATE:20250808
DTEND;VALUE=DATE:20250809
DTSTAMP:20260419T160230
CREATED:20250725T085321Z
LAST-MODIFIED:20250725T085321Z
UID:1207-1754611200-1754697599@saxophone.bg
SUMMARY:Ателие 60 - Варна - Sax night
DESCRIPTION:Саксофон | Музика на живо | Уелкъм дринк | Събития | Сватби
URL:https://saxophone.bg/event/%d0%b0%d1%82%d0%b5%d0%bb%d0%b8%d0%b5-60-%d0%b2%d0%b0%d1%80%d0%bd%d0%b0-sax-night-3/
END:VEVENT
BEGIN:VEVENT
DTSTART;VALUE=DATE:20250807
DTEND;VALUE=DATE:20250808
DTSTAMP:20260419T160230
CREATED:20250724T144238Z
LAST-MODIFIED:20250724T144238Z
UID:1138-1754524800-1754611199@saxophone.bg
SUMMARY:Хотел Meliá Grand Hermitage - к.к. Златни Пясъци
DESCRIPTION:Саксофон | Музика на живо | Уелкъм дринк | Събития | Сватби
URL:https://saxophone.bg/event/%d1%85%d0%be%d1%82%d0%b5%d0%bb-melia-grand-hermitage-%d0%ba-%d0%ba-%d0%b7%d0%bb%d0%b0%d1%82%d0%bd%d0%b8-%d0%bf%d1%8f%d1%81%d1%8a%d1%86%d0%b8-16/
END:VEVENT
BEGIN:VEVENT
DTSTART;VALUE=DATE:20250806
DTEND;VALUE=DATE:20250807
DTSTAMP:20260419T160230
CREATED:20250725T090529Z
LAST-MODIFIED:20250725T090529Z
UID:1218-1754438400-1754524799@saxophone.bg
SUMMARY:The Palace Hotel - Sunny Day - Saints Constantine and Helena
DESCRIPTION:Саксофон | Музика на живо | Уелкъм дринк | Събития | Сватби
URL:https://saxophone.bg/event/the-palace-hotel-sunny-day-saints-constantine-and-helena/
END:VEVENT
BEGIN:VEVENT
DTSTART;VALUE=DATE:20250806
DTEND;VALUE=DATE:20250807
DTSTAMP:20260419T160230
CREATED:20250724T180224Z
LAST-MODIFIED:20250724T180224Z
UID:1181-1754438400-1754524799@saxophone.bg
SUMMARY:Хотел Грифид Метропол Златни пясъци
DESCRIPTION:Саксофон | Музика на живо | Уелкъм дринк | Събития | Сватби
URL:https://saxophone.bg/event/%d1%85%d0%be%d1%82%d0%b5%d0%bb-%d0%b3%d1%80%d0%b8%d1%84%d0%b8%d0%b4-%d0%bc%d0%b5%d1%82%d1%80%d0%be%d0%bf%d0%be%d0%bb-%d0%b7%d0%bb%d0%b0%d1%82%d0%bd%d0%b8-%d0%bf%d1%8f%d1%81%d1%8a%d1%86%d0%b8-5/
END:VEVENT
BEGIN:VEVENT
DTSTART;VALUE=DATE:20250805
DTEND;VALUE=DATE:20250806
DTSTAMP:20260419T160230
CREATED:20250724T145736Z
LAST-MODIFIED:20250724T145736Z
UID:1163-1754352000-1754438399@saxophone.bg
SUMMARY:Интернационал Хотел Казино и Тауър Суитс Златни пясъци SAX NIGHT
DESCRIPTION:Саксофон | Музика на живо | Уелкъм дринк | Събития | Сватби
URL:https://saxophone.bg/event/%d0%b8%d0%bd%d1%82%d0%b5%d1%80%d0%bd%d0%b0%d1%86%d0%b8%d0%be%d0%bd%d0%b0%d0%bb-%d1%85%d0%be%d1%82%d0%b5%d0%bb-%d0%ba%d0%b0%d0%b7%d0%b8%d0%bd%d0%be-%d0%b8-%d1%82%d0%b0%d1%83%d1%8a%d1%80-%d1%81%d1%83-26/
END:VEVENT
BEGIN:VEVENT
DTSTART;VALUE=DATE:20250805
DTEND;VALUE=DATE:20250806
DTSTAMP:20260419T160230
CREATED:20250724T142406Z
LAST-MODIFIED:20250724T142406Z
UID:1109-1754352000-1754438399@saxophone.bg
SUMMARY:Хотел ГРИФИД НОА Златни пясъци SAX Live
DESCRIPTION:Саксофон | Музика на живо | Уелкъм дринк | Събития | Сватби
URL:https://saxophone.bg/event/%d1%85%d0%be%d1%82%d0%b5%d0%bb-%d0%b3%d1%80%d0%b8%d1%84%d0%b8%d0%b4-%d0%bd%d0%be%d0%b0-%d0%b7%d0%bb%d0%b0%d1%82%d0%bd%d0%b8-%d0%bf%d1%8f%d1%81%d1%8a%d1%86%d0%b8-sax-live-4/
END:VEVENT
END:VCALENDAR